Workbook

Sheet Склад 1
A1: Артикул | B1: Бренд | C1: Description | D1: Кратность | E1: Volume | F1: Weight, kg | G1: EAN | H1: ТН ВЭД | I1: ЕАЭС № | J1: Ссылка | K1: Car Make | L1: Model | M1: OE X-ref | N1: Comp 1 TRW | O1: Comp 2 Lynx
A2: FDP1276 | B2: FAP | C2: Тормозные колодки дисковые смесь CERAMIC | D2: 1 | E2: 189*128*85 | F2: 2.17 | G2: 4657814217931 | H2: =VLOOKUP(A2,[1]Лист_1!$A$12:$F$2168,3,0) -> 8708309109 | I2: №ЕАЭС RU C-CN.АД50.В.06508/24 | J2: https://pub.fsa.gov.ru/rss/certificate/view/3376741/certificate | K2: AUDI | L2: Q7 Quattro 3.0L 2009.06-2012.05 | M2: 7L0 698 451 F | N2: GDB1775 | O2: BD-1226
A3: FDP0117 | B3: FAP | C3: Тормозные колодки дисковые смесь CERAMIC | D3: 1 | E3: 139*88*90 | F3: 1.02 | G3: 4657814213032 | H3: =VLOOKUP(A3,[1]Лист_1!$A$12:$F$2168,3,0) -> 8708309109 | I3: №ЕАЭС RU C-CN.АД50.В.06508/24 | J3: https://pub.fsa.gov.ru/rss/certificate/view/3376741/certificate | K3: LEXUS | L3: LX 450 4.5L 1995.05-1997.12 | M3: 04465-60010 | N3: GDB1182 | O3: BD-7505
A4: FDP2530 | B4: FAP | C4: Тормозные колодки дисковые смесь CERAMIC | D4: 1 | E4: 0 | F4: 0 | G4: 4657814221662 | H4: =VLOOKUP(A4,[1]Лист_1!$A$12:$F$2168,3,0) -> 8708309109 | I4: №ЕАЭС RU C-CN.АД50.В.06508/24 | J4: https://pub.fsa.gov.ru/rss/certificate/view/3376741/certificate | K4: CHANGAN | L4: SHENLAN | M4: S203F260301-0800 | N4: - | O4: -
A5: FBS10221 | B5: FAP | C5: Тормозные колодки барабанные PREMIUM | D5: 1 | E5: 283*162*81 | F5: 2.05 | G5: 4657814212400 | H5: =VLOOKUP(A5,[1]Лист_1!$A$12:$F$2168,3,0) -> 8708309909 | I5: №ЕАЭС RU C-CN.АД50.В.06508/24 | J5: https://pub.fsa.gov.ru/rss/certificate/view/3376741/certificate | K5: FORD | L5: Focus Estate/Wagon 1.6L 2011.01-2020.02 | M5: EY16-2200-AB | N5: GS8806 | O5: BS-3003
A6: FDP0890 | B6: FAP | C6: Тормозные колодки дисковые смесь CERAMIC | D6: 1 | E6: 139*88*90 | F6: 1.09 | G6: 4657814218761 | H6: =VLOOKUP(A6,[1]Лист_1!$A$12:$F$2168,3,0) -> 8708309109 | I6: №ЕАЭС RU C-CN.АД50.В.06508/24 | J6: https://pub.fsa.gov.ru/rss/certificate/view/3376741/certificate | K6: GEELY | L6: CK 2013-- | M6: V9118-D006 | N6: GDB7020
A7: FDP1493 | B7: FAP | C7: Тормозные колодки дисковые смесь CERAMIC | D7: 1 | E7: 139*88*90 | F7: 0.98 | G7: 4657814218020 | H7: =VLOOKUP(A7,[1]Лист_1!$A$12:$F$2168,3,0) -> 8708309109 | I7: №ЕАЭС RU C-CN.АД50.В.06508/24 | J7: https://pub.fsa.gov.ru/rss/certificate/view/3376741/certificate | K7: HONDA | L7: ACCORD II (AC, AD) | M7: 064A5SB0670 | N7: GDB358 | O7: BD-3442
A8: FP12713 | B8: FAP | C8: Тормозной диск с покрытием GEOMET | D8: 2 | E8: 0 | F8: 11.42 | G8: 4657814222638 | H8: =VLOOKUP(A8,[1]Лист_1!$A$12:$F$2168,3,0) -> 8708309109 | I8: №ЕАЭС RU C-CN.АД50.В.06508/24 | J8: https://pub.fsa.gov.ru/rss/certificate/view/3376741/certificate | K8: CHANGAN | L8: CS95 | M8: 3501101AP01 | N8: - | O8: -
A9: FDP0663 | B9: FAP | C9: Тормозные колодки дисковые смесь CERAMIC | D9: 1 | E9: 164*88*90 | F9: 1.58 | G9: 4657814215531 | H9: =VLOOKUP(A9,[1]Лист_1!$A$12:$F$2168,3,0) -> 8708309109 | I9: №ЕАЭС RU C-CN.АД50.В.06508/24 | J9: https://pub.fsa.gov.ru/rss/certificate/view/3376741/certificate | K9: SUBARU | L9: Impreza 1.6L 1993.01-1998.08 | M9: AY040-FJ007 | N9: GDB3205 | O9: BD-7105
A10: FP11804 | B10: FAP | C10: Тормозной диск с покрытием GEOMET | D10: 2 | E10: 310*300*60 | F10: 7.35 | G10: 4657814201398 | H10: =VLOOKUP(A10,[1]Лист_1!$A$12:$F$2168,3,0) -> 8708309109 | I10: №ЕАЭС RU C-CN.АД50.В.06508/24 | J10: https://pub.fsa.gov.ru/rss/certificate/view/3376741/certificate | K10: KIA | L10: Venga 1.4L 2015.04-2019.03 | M10: 517122L000 | N10: DF4865S
A11: FP13587 | B11: FAP | C11: Тормозной диск с покрытием GEOMET | D11: 2 | E11: 310*300*60 | F11: 7.05 | G11: 4657814202838 | H11: =VLOOKUP(A11,[1]Лист_1!$A$12:$F$2168,3,0) -> 8708309109 | I11: №ЕАЭС RU C-CN.АД50.В.06508/24 | J11: https://pub.fsa.gov.ru/rss/certificate/view/3376741/certificate | K11: TOYOTA | L11: Auris Touring Sports 1.8L 2013.07-2018.12 | M11: 43512-02330 | N11: DF6679
A12: FDP0249 | B12: FAP | C12: Тормозные колодки дисковые смесь CERAMIC | D12: 1 | E12: 164*88*90 | F12: 1.52 | G12: 4657814214343 | H12: 8708309109 | I12: №ЕАЭС RU C-CN.АД50.В.06508/24 | J12: https://pub.fsa.gov.ru/rss/certificate/view/3376741/certificate | K12: HONDA | L12: Domani 1.6L 1995.10-1999.09 | M12: 06450-S5A-J00 | N12: GDB3375 | O12: BD-3406
A13: FDP0420 | B13: FAP | C13: Тормозные колодки дисковые смесь CERAMIC | D13: 1 | E13: 155*125*80 | F13: 2.05 | G13: 4657814219935 | H13: 8708309109 | I13: №ЕАЭС RU C-CN.АД50.В.06508/24 | J13: https://pub.fsa.gov.ru/rss/certificate/view/3376741/certificate | K13: INFINITI | L13: Q30 1.6L 2015.12-. | M13: 410605DA0B | N13: GDB1932 | O13: BD-5356
A14: FP11515 | B14: FAP | C14: Тормозной диск с покрытием GEOMET | D14: 2 | E14: 350*340*80 | F14: 7.45 | G14: 4657814206720 | H14: =VLOOKUP(A14,[1]Лист_1!$A$12:$F$2168,3,0) -> 8708309109 | I14: №ЕАЭС RU C-CN.АД50.В.06508/24 | J14: https://pub.fsa.gov.ru/rss/certificate/view/3376741/certificate | K14: VOLVO | L14: XC90 2.4L 2010.11-2014.12 | M14: 8624926
A15: FBS10597 | B15: FAP | C15: Тормозные колодки барабанные PREMIUM | D15: 1 | E15: 331*223*132 | F15: 4.24 | G15: 4657814212868 | H15: =VLOOKUP(A15,[1]Лист_1!$A$12:$F$2168,3,0) -> 8708309909 | I15: №ЕАЭС RU C-CN.АД50.В.06508/24 | J15: https://pub.fsa.gov.ru/rss/certificate/view/3376741/certificate | K15: FORD | L15: Transit 80 1.6L 1985.09-1992.09 | M15: 9161446 | N15: GS8630
A16: FDP010301 | B16: FAP | C16: Тормозные колодки дисковые смесь CERAMIC | D16: 1 | E16: 189*128*85 | F16: 1.56 | G16: 4657814216538 | H16: 8708309109 | I16: №ЕАЭС RU C-CN.АД50.В.06508/24 | J16: https://pub.fsa.gov.ru/rss/certificate/view/3376741/certificate | K16: RENAULT | L16: Logan MCV 1.5L 2008.02-2015.06 | M16: 6001549803 | N16: GDB1749 | O16: BD-6324
A17: FP15057 | B17: FAP | C17: Тормозной диск с покрытием GEOMET | D17: 2 | E17: 0 | F17: 13 | G17: 4657814219447 | H17: =VLOOKUP(A17,[1]Лист_1!$A$12:$F$2168,3,0) -> 8708309109 | I17: №ЕАЭС RU C-CN.АД58.В.01103/25 | J17: https://pub.fsa.gov.ru/rss/certificate/view/3554818/certificate | K17: BYD | L17: TANG | M17: 1246022500 | N17: - | O17: -
A18: FDP1965 | B18: FAP | C18: Тормозные колодки дисковые смесь CERAMIC | D18: 1 | E18: 185*80*80 | F18: 1.944288 | G18: 4657814221440 | H18: 8708309109 | I18: №ЕАЭС RU C-CN.АД50.В.06508/24 | J18: https://pub.fsa.gov.ru/rss/certificate/view/3376741/certificate | K18: JAC | L18: REFINE M4 | M18: 3503100U0010 | N18: - | O18: -
A19: FP15159 | B19: FAP | C19: Тормозной диск с покрытием GEOMET | D19: 2 | F19: 9.36 | G19: 4657814223840 | H19: =VLOOKUP(A19,[1]Лист_1!$A$12:$F$2168,3,0) -> 8708309109 | I19: №ЕАЭС RU C-CN.АД58.В.01103/25 | J19: https://pub.fsa.gov.ru/rss/certificate/view/3554818/certificate | K19: JETOUR | L19: T2 | M19: F263001075LB
A20: FDP1124 | B20: FAP | C20: Тормозные колодки дисковые смесь CERAMIC | D20: 1 | E20: 125*85*85 | F20: 0 | G20: 4657814221372 | H20: 8708309109 | I20: №ЕАЭС RU C-CN.АД50.В.06508/24 | J20: https://pub.fsa.gov.ru/rss/certificate/view/3376741/certificate | K20: LIFAN | L20: MURMAN | M20: 3520001BACS100 | N20: GDB7847 | O20: -
A21: FDP2630 | B21: FAP | C21: Тормозные колодки дисковые смесь CERAMIC | D21: 1 | E21: 0 | F21: 0 | G21: 4657814221754 | H21: 8708309109 | I21: №ЕАЭС RU C-CN.АД58.В.01103/25 | J21: https://pub.fsa.gov.ru/rss/certificate/view/3554818/certificate | K21: BAW | L21: ACE M7 | M21: 1200657BYH25 | N21: - | O21: -
A22: FDP2476 | B22: FAP | C22: Тормозные колодки дисковые смесь CERAMIC | D22: 1 | E22: 150*85*85 | F22: 0 | G22: 4657814220900 | H22: 8708309109 | I22: №ЕАЭС RU C-CN.АД50.В.06508/24 | J22: https://pub.fsa.gov.ru/rss/certificate/view/3376741/certificate | K22: JETTA | L22: VS5 | M22: 88350006AAF0000 | N22: GDB7981 | O22: -
A23: FP10674 | B23: FAP | C23: Тормозной диск с покрытием GEOMET | D23: 2 | E23: 0 | F23: 4.45 | G23: 4657814237205 | H23: =VLOOKUP(A23,[1]Лист_1!$A$12:$F$2168,3,0) -> 8708309109 | I23: №ЕАЭС RU C-CN.АД50.В.06508/24 | J23: https://pub.fsa.gov.ru/rss/certificate/view/3376741/certificate | K23: CHANGAN | L23: EADO | M23: C2010710100 | N23: - | O23: -
A24: FDP2059 | B24: FAP | C24: Тормозные колодки дисковые смесь CERAMIC | D24: 1 | E24: 139*88*90 | F24: 1.1 | G24: 4657814216705 | H24: 8708309109 | I24: №ЕАЭС RU C-CN.АД50.В.06508/24 | J24: https://pub.fsa.gov.ru/rss/certificate/view/3376741/certificate | K24: HYUNDAI | L24: Santa Fe 1.6L 2024.06-. | M24: 58302-K5A00 | N24: GDB2368 | O24: BD-4426
A25: FDP0966 | B25: FAP | C25: Тормозные колодки дисковые смесь CERAMIC | D25: 1 | E25: 164*88*90 | F25: 1.13 | G25: 4657814216774 | H25: 8708309109 | I25: №ЕАЭС RU C-CN.АД50.В.06508/24 | J25: https://pub.fsa.gov.ru/rss/certificate/view/3376741/certificate | K25: HONDA | L25: ZR-V 2.0L 2023.04-. | M25: 43022-THA-H00 | N25: GDB2217
A26: FDP1168 | B26: FAP | C26: Тормозные колодки дисковые смесь CERAMIC | D26: 1 | E26: 169*128*85 | F26: 3.36 | G26: 4657814218006 | H26: 8708309109 | I26: №ЕАЭС RU C-CN.АД50.В.06508/24 | J26: https://pub.fsa.gov.ru/rss/certificate/view/3376741/certificate | K26: ROLLS-ROYCE | L26: Ghost 6.6L 2009.04-2020.03 | M26: 34 11 4 073 048 | N26: GDB1826 | O26: BD-1445
A27: FP11200 | B27: FAP | C27: Тормозной диск с покрытием GEOMET | D27: 2 | E27: 330*320*50 | F27: 7.5 | G27: 4657814202524 | H27: =VLOOKUP(A27,[1]Лист_1!$A$12:$F$2168,3,0) -> 8708309109 | I27: №ЕАЭС RU C-CN.АД50.В.06508/24 | J27: https://pub.fsa.gov.ru/rss/certificate/view/3376741/certificate | K27: CHEVROLET | L27: Vectra 2.2L 1997.12-2005.12 | M27: 93182284
A28: FP10459 | B28: FAP | C28: Тормозной диск с покрытием GEOMET | D28: 2 | E28: 350*340*60 | F28: 5.4 | G28: 4657814200650 | H28: =VLOOKUP(A28,[1]Лист_1!$A$12:$F$2168,3,0) -> 8708309109 | I28: №ЕАЭС RU C-CN.АД50.В.06508/24 | J28: https://pub.fsa.gov.ru/rss/certificate/view/3376741/certificate | K28: FORD | L28: Galaxy 2.2L 2010.11-2015.06 | M28: 1 379 931 | N28: DF4766
A29: FDP0092 | B29: FAP | C29: Тормозные колодки дисковые смесь CERAMIC | D29: 1 | E29: 139*88*90 | F29: 1.115 | G29: 4657814212967 | H29: 8708309109 | I29: №ЕАЭС RU C-CN.АД50.В.06508/24 | J29: https://pub.fsa.gov.ru/rss/certificate/view/3376741/certificate | K29: TOYOTA | L29: Aurion 3.5L 2011.09-2018.03 | M29: 04466-06070 | N29: GDB3426 | O29: BD-7532
A30: FP15125 | B30: FAP | C30: Тормозной диск с покрытием GEOMET | D30: 2 | F30: 4 | G30: 4657814221938 | H30: =VLOOKUP(A30,[1]Лист_1!$A$12:$F$2168,3,0) -> 8708309109 | I30: №ЕАЭС RU C-CN.АД58.В.01103/25 | J30: https://pub.fsa.gov.ru/rss/certificate/view/3554818/certificate | K30: JAC | L30: S7 | M30: 3504300U0010
A31: FP13257 | B31: FAP | C31: Тормозной диск с покрытием GEOMET | D31: 2 | E31: 350*340*60 | F31: 10.4 | G31: 4657814207017 | H31: =VLOOKUP(A31,[1]Лист_1!$A$12:$F$2168,3,0) -> 8708309109 | I31: №ЕАЭС RU C-CN.АД50.В.06508/24 | J31: https://pub.fsa.gov.ru/rss/certificate/view/3376741/certificate | K31: AUDI | L31: A7 Sportback Quattro 3.0L 2011.11-2015.03 | M31: 4GD 615 301 | N31: DF6148 | O31: BN-1253
A32: FP10667 | B32: FAP | C32: Тормозной диск с покрытием GEOMET | D32: 2 | E32: 330*320*60 | F32: 5.82 | G32: 4657814201749 | H32: =VLOOKUP(A32,[1]Лист_1!$A$12:$F$2168,3,0) -> 8708309109 | I32: №ЕАЭС RU C-CN.АД50.В.06508/24 | J32: https://pub.fsa.gov.ru/rss/certificate/view/3376741/certificate | K32: RENAULT | L32: Captur 1.6L 2022.01-. | M32: 43206-4EA0A | N32: DF6787
A33: FP11447 | B33: FAP | C33: Тормозной диск с покрытием GEOMET | D33: 2 | E33: 310*300*60 | F33: 6.1 | G33: 4657814200230 | H33: =VLOOKUP(A33,[1]Лист_1!$A$12:$F$2168,3,0) -> 8708309109 | I33: №ЕАЭС RU C-CN.АД50.В.06508/24 | J33: https://pub.fsa.gov.ru/rss/certificate/view/3376741/certificate | K33: VW | L33: Jetta 2.0L 2010.06-2017.12 | M33: 1K0 615 301 AC | N33: DF4839 | O33: BN-1200
A34: FDP2094 | B34: FAP | C34: Тормозные колодки дисковые смесь CERAMIC | D34: 1 | E34: 139*88*90 | F34: 0.82 | G34: 4657814216897 | H34: 8708309109 | I34: №ЕАЭС RU C-CN.АД50.В.06508/24 | J34: https://pub.fsa.gov.ru/rss/certificate/view/3376741/certificate | K34: TOYOTA | L34: NOAH | M34: 04466-28120
A35: FDP1412 | B35: FAP | C35: Тормозные колодки дисковые смесь CERAMIC | D35: 1 | E35: 164*88*90 | F35: 1.58 | G35: 4657814216859 | H35: 8708309109 | I35: №ЕАЭС RU C-CN.АД50.В.06508/24 | J35: https://pub.fsa.gov.ru/rss/certificate/view/3376741/certificate | K35: MAZDA | L35: 3 2.0L 2021.02-. | M35: BCYA-33-28ZA
A36: FDP0929 | B36: FAP | C36: Тормозные колодки дисковые смесь CERAMIC | D36: 1 | E36: 199*83*85 | F36: 1.8 | G36: 4657814215562 | H36: 8708309109 | I36: №ЕАЭС RU C-CN.АД50.В.06508/24 | J36: https://pub.fsa.gov.ru/rss/certificate/view/3376741/certificate | K36: NISSAN | L36: Datsun 2.7L 1998.02-2001.10 | M36: 41000-10G08 | N36: GDB766
A37: FDP0356 | B37: FAP | C37: Тормозные колодки дисковые смесь CERAMIC | D37: 1 | E37: 249*148*90 | F37: 3.33 | G37: 4657814215166 | H37: 8708309109 | I37: №ЕАЭС RU C-CN.АД50.В.06508/24 | J37: https://pub.fsa.gov.ru/rss/certificate/view/3376741/certificate | K37: ISUZU | L37: Elf 150 3.0L 2003.10-. | M37: 41060-89T0D | N37: GDB7233
A38: FDP1045 | B38: FAP | C38: Тормозные колодки дисковые смесь CERAMIC | D38: 1 | E38: 164*88*90 | F38: 1.55 | G38: 4657814215630 | H38: 8708309109 | I38: №ЕАЭС RU C-CN.АД50.В.06508/24 | J38: https://pub.fsa.gov.ru/rss/certificate/view/3376741/certificate | K38: TOYOTA | L38: Liteace 1.5L 1989.07-1998.04 | M38: 04465-28050 | N38: GDB1043
A39: FDP0940 | B39: FAP | C39: Тормозные колодки дисковые смесь CERAMIC | D39: 1 | E39: 164*88*90 | F39: 1.38 | G39: 4657814216651 | H39: 8708309109 | I39: №ЕАЭС RU C-CN.АД50.В.06508/24 | J39: https://pub.fsa.gov.ru/rss/certificate/view/3376741/certificate | K39: CHEVROLET | L39: Tahoe 5.3L 2006.10-2014.03 | M39: 19159252
A40: FP15062 | B40: FAP | C40: Тормозной диск с покрытием GEOMET | D40: 2 | E40: 0 | F40: 12.32 | G40: 4657814222393 | H40: =VLOOKUP(A40,[1]Лист_1!$A$12:$F$2168,3,0) -> 8708309109 | I40: №ЕАЭС RU C-CN.АД58.В.01103/25 | J40: https://pub.fsa.gov.ru/rss/certificate/view/3554818/certificate | K40: CHANGAN | L40: UNI-K | M40: CD569F2603010701 | N40: - | O40: -
...
