Workbook

Sheet Склад 1
A1: Артикул | B1: Бренд | C1: Description | D1: Кратность | E1: Volume | F1: Weight, kg | G1: EAN | H1: ТН ВЭД | I1: ЕАЭС № | J1: Ссылка | K1: Car Make | L1: Model | M1: OE X-ref | N1: Comp 1 TRW | O1: Comp 2 Lynx
A2: FDP1276 | B2: FAP | C2: Тормозные колодки дисковые смесь CERAMIC | D2: 1 | E2: 189*128*85 | F2: 2.17 | G2: 4657814217931 | H2: =VLOOKUP(A2,[1]Лист_1!$A$12:$F$2168,3,0) -> 8708309109 | I2: №ЕАЭС RU C-CN.АД50.В.06508/24 | J2: https://pub.fsa.gov.ru/rss/certificate/view/3376741/certificate | K2: AUDI | L2: Q7 Quattro 3.0L 2009.06-2012.05 | M2: 7L0 698 451 F | N2: GDB1775 | O2: BD-1226
A3: FDP0117 | B3: FAP | C3: Тормозные колодки дисковые смесь CERAMIC | D3: 1 | E3: 139*88*90 | F3: 1.02 | G3: 4657814213032 | H3: =VLOOKUP(A3,[1]Лист_1!$A$12:$F$2168,3,0) -> 8708309109 | I3: №ЕАЭС RU C-CN.АД50.В.06508/24 | J3: https://pub.fsa.gov.ru/rss/certificate/view/3376741/certificate | K3: LEXUS | L3: LX 450 4.5L 1995.05-1997.12 | M3: 04465-60010 | N3: GDB1182 | O3: BD-7505
A4: FDP2530 | B4: FAP | C4: Тормозные колодки дисковые смесь CERAMIC | D4: 1 | E4: 0 | F4: 0 | G4: 4657814221662 | H4: =VLOOKUP(A4,[1]Лист_1!$A$12:$F$2168,3,0) -> 8708309109 | I4: №ЕАЭС RU C-CN.АД50.В.06508/24 | J4: https://pub.fsa.gov.ru/rss/certificate/view/3376741/certificate | K4: CHANGAN | L4: SHENLAN | M4: S203F260301-0800 | N4: - | O4: -
A5: FBS10221 | B5: FAP | C5: Тормозные колодки барабанные PREMIUM | D5: 1 | E5: 283*162*81 | F5: 2.05 | G5: 4657814212400 | H5: =VLOOKUP(A5,[1]Лист_1!$A$12:$F$2168,3,0) -> 8708309909 | I5: №ЕАЭС RU C-CN.АД50.В.06508/24 | J5: https://pub.fsa.gov.ru/rss/certificate/view/3376741/certificate | K5: FORD | L5: Focus Estate/Wagon 1.6L 2011.01-2020.02 | M5: EY16-2200-AB | N5: GS8806 | O5: BS-3003
A6: FDP0890 | B6: FAP | C6: Тормозные колодки дисковые смесь CERAMIC | D6: 1 | E6: 139*88*90 | F6: 1.09 | G6: 4657814218761 | H6: =VLOOKUP(A6,[1]Лист_1!$A$12:$F$2168,3,0) -> 8708309109 | I6: №ЕАЭС RU C-CN.АД50.В.06508/24 | J6: https://pub.fsa.gov.ru/rss/certificate/view/3376741/certificate | K6: GEELY | L6: CK 2013-- | M6: V9118-D006 | N6: GDB7020
A7: FDP1493 | B7: FAP | C7: Тормозные колодки дисковые смесь CERAMIC | D7: 1 | E7: 139*88*90 | F7: 0.98 | G7: 4657814218020 | H7: =VLOOKUP(A7,[1]Лист_1!$A$12:$F$2168,3,0) -> 8708309109 | I7: №ЕАЭС RU C-CN.АД50.В.06508/24 | J7: https://pub.fsa.gov.ru/rss/certificate/view/3376741/certificate | K7: HONDA | L7: ACCORD II (AC, AD) | M7: 064A5SB0670 | N7: GDB358 | O7: BD-3442
A8: FP12713 | B8: FAP | C8: Тормозной диск с покрытием GEOMET | D8: 2 | E8: 0 | F8: 11.42 | G8: 4657814222638 | H8: =VLOOKUP(A8,[1]Лист_1!$A$12:$F$2168,3,0) -> 8708309109 | I8: №ЕАЭС RU C-CN.АД50.В.06508/24 | J8: https://pub.fsa.gov.ru/rss/certificate/view/3376741/certificate | K8: CHANGAN | L8: CS95 | M8: 3501101AP01 | N8: - | O8: -
A9: FDP0663 | B9: FAP | C9: Тормозные колодки дисковые смесь CERAMIC | D9: 1 | E9: 164*88*90 | F9: 1.58 | G9: 4657814215531 | H9: =VLOOKUP(A9,[1]Лист_1!$A$12:$F$2168,3,0) -> 8708309109 | I9: №ЕАЭС RU C-CN.АД50.В.06508/24 | J9: https://pub.fsa.gov.ru/rss/certificate/view/3376741/certificate | K9: SUBARU | L9: Impreza 1.6L 1993.01-1998.08 | M9: AY040-FJ007 | N9: GDB3205 | O9: BD-7105
A10: FP11804 | B10: FAP | C10: Тормозной диск с покрытием GEOMET | D10: 2 | E10: 310*300*60 | F10: 7.35 | G10: 4657814201398 | H10: =VLOOKUP(A10,[1]Лист_1!$A$12:$F$2168,3,0) -> 8708309109 | I10: №ЕАЭС RU C-CN.АД50.В.06508/24 | J10: https://pub.fsa.gov.ru/rss/certificate/view/3376741/certificate | K10: KIA | L10: Venga 1.4L 2015.04-2019.03 | M10: 517122L000 | N10: DF4865S
A11: FP13587 | B11: FAP | C11: Тормозной диск с покрытием GEOMET | D11: 2 | E11: 310*300*60 | F11: 7.05 | G11: 4657814202838 | H11: =VLOOKUP(A11,[1]Лист_1!$A$12:$F$2168,3,0) -> 8708309109 | I11: №ЕАЭС RU C-CN.АД50.В.06508/24 | J11: https://pub.fsa.gov.ru/rss/certificate/view/3376741/certificate | K11: TOYOTA | L11: Auris Touring Sports 1.8L 2013.07-2018.12 | M11: 43512-02330 | N11: DF6679
A12: FDP0249 | B12: FAP | C12: Тормозные колодки дисковые смесь CERAMIC | D12: 1 | E12: 164*88*90 | F12: 1.52 | G12: 4657814214343 | H12: 8708309109 | I12: №ЕАЭС RU C-CN.АД50.В.06508/24 | J12: https://pub.fsa.gov.ru/rss/certificate/view/3376741/certificate | K12: HONDA | L12: Domani 1.6L 1995.10-1999.09 | M12: 06450-S5A-J00 | N12: GDB3375 | O12: BD-3406
A13: FDP0420 | B13: FAP | C13: Тормозные колодки дисковые смесь CERAMIC | D13: 1 | E13: 155*125*80 | F13: 2.05 | G13: 4657814219935 | H13: 8708309109 | I13: №ЕАЭС RU C-CN.АД50.В.06508/24 | J13: https://pub.fsa.gov.ru/rss/certificate/view/3376741/certificate | K13: INFINITI | L13: Q30 1.6L 2015.12-. | M13: 410605DA0B | N13: GDB1932 | O13: BD-5356
A14: FP11515 | B14: FAP | C14: Тормозной диск с покрытием GEOMET | D14: 2 | E14: 350*340*80 | F14: 7.45 | G14: 4657814206720 | H14: =VLOOKUP(A14,[1]Лист_1!$A$12:$F$2168,3,0) -> 8708309109 | I14: №ЕАЭС RU C-CN.АД50.В.06508/24 | J14: https://pub.fsa.gov.ru/rss/certificate/view/3376741/certificate | K14: VOLVO | L14: XC90 2.4L 2010.11-2014.12 | M14: 8624926
A15: FBS10597 | B15: FAP | C15: Тормозные колодки барабанные PREMIUM | D15: 1 | E15: 331*223*132 | F15: 4.24 | G15: 4657814212868 | H15: =VLOOKUP(A15,[1]Лист_1!$A$12:$F$2168,3,0) -> 8708309909 | I15: №ЕАЭС RU C-CN.АД50.В.06508/24 | J15: https://pub.fsa.gov.ru/rss/certificate/view/3376741/certificate | K15: FORD | L15: Transit 80 1.6L 1985.09-1992.09 | M15: 9161446 | N15: GS8630
A16: FDP010301 | B16: FAP | C16: Тормозные колодки дисковые смесь CERAMIC | D16: 1 | E16: 189*128*85 | F16: 1.56 | G16: 4657814216538 | H16: 8708309109 | I16: №ЕАЭС RU C-CN.АД50.В.06508/24 | J16: https://pub.fsa.gov.ru/rss/certificate/view/3376741/certificate | K16: RENAULT | L16: Logan MCV 1.5L 2008.02-2015.06 | M16: 6001549803 | N16: GDB1749 | O16: BD-6324
A17: FP15057 | B17: FAP | C17: Тормозной диск с покрытием GEOMET | D17: 2 | E17: 0 | F17: 13 | G17: 4657814219447 | H17: =VLOOKUP(A17,[1]Лист_1!$A$12:$F$2168,3,0) -> 8708309109 | I17: №ЕАЭС RU C-CN.АД58.В.01103/25 | J17: https://pub.fsa.gov.ru/rss/certificate/view/3554818/certificate | K17: BYD | L17: TANG | M17: 1246022500 | N17: - | O17: -
A18: FDP1965 | B18: FAP | C18: Тормозные колодки дисковые смесь CERAMIC | D18: 1 | E18: 185*80*80 | F18: 1.944288 | G18: 4657814221440 | H18: 8708309109 | I18: №ЕАЭС RU C-CN.АД50.В.06508/24 | J18: https://pub.fsa.gov.ru/rss/certificate/view/3376741/certificate | K18: JAC | L18: REFINE M4 | M18: 3503100U0010 | N18: - | O18: -
A19: FP15159 | B19: FAP | C19: Тормозной диск с покрытием GEOMET | D19: 2 | F19: 9.36 | G19: 4657814223840 | H19: =VLOOKUP(A19,[1]Лист_1!$A$12:$F$2168,3,0) -> 8708309109 | I19: №ЕАЭС RU C-CN.АД58.В.01103/25 | J19: https://pub.fsa.gov.ru/rss/certificate/view/3554818/certificate | K19: JETOUR | L19: T2 | M19: F263001075LB
A20: FDP1124 | B20: FAP | C20: Тормозные колодки дисковые смесь CERAMIC | D20: 1 | E20: 125*85*85 | F20: 0 | G20: 4657814221372 | H20: 8708309109 | I20: №ЕАЭС RU C-CN.АД50.В.06508/24 | J20: https://pub.fsa.gov.ru/rss/certificate/view/3376741/certificate | K20: LIFAN | L20: MURMAN | M20: 3520001BACS100 | N20: GDB7847 | O20: -
A21: FDP2630 | B21: FAP | C21: Тормозные колодки дисковые смесь CERAMIC | D21: 1 | E21: 0 | F21: 0 | G21: 4657814221754 | H21: 8708309109 | I21: №ЕАЭС RU C-CN.АД58.В.01103/25 | J21: https://pub.fsa.gov.ru/rss/certificate/view/3554818/certificate | K21: BAW | L21: ACE M7 | M21: 1200657BYH25 | N21: - | O21: -
A22: FDP2476 | B22: FAP | C22: Тормозные колодки дисковые смесь CERAMIC | D22: 1 | E22: 150*85*85 | F22: 0 | G22: 4657814220900 | H22: 8708309109 | I22: №ЕАЭС RU C-CN.АД50.В.06508/24 | J22: https://pub.fsa.gov.ru/rss/certificate/view/3376741/certificate | K22: JETTA | L22: VS5 | M22: 88350006AAF0000 | N22: GDB7981 | O22: -
A23: FP10674 | B23: FAP | C23: Тормозной диск с покрытием GEOMET | D23: 2 | E23: 0 | F23: 4.45 | G23: 4657814237205 | H23: =VLOOKUP(A23,[1]Лист_1!$A$12:$F$2168,3,0) -> 8708309109 | I23: №ЕАЭС RU C-CN.АД50.В.06508/24 | J23: https://pub.fsa.gov.ru/rss/certificate/view/3376741/certificate | K23: CHANGAN | L23: EADO | M23: C2010710100 | N23: - | O23: -
A24: FDP2059 | B24: FAP | C24: Тормозные колодки дисковые смесь CERAMIC | D24: 1 | E24: 139*88*90 | F24: 1.1 | G24: 4657814216705 | H24: 8708309109 | I24: №ЕАЭС RU C-CN.АД50.В.06508/24 | J24: https://pub.fsa.gov.ru/rss/certificate/view/3376741/certificate | K24: HYUNDAI | L24: Santa Fe 1.6L 2024.06-. | M24: 58302-K5A00 | N24: GDB2368 | O24: BD-4426
A25: FDP0966 | B25: FAP | C25: Тормозные колодки дисковые смесь CERAMIC | D25: 1 | E25: 164*88*90 | F25: 1.13 | G25: 4657814216774 | H25: 8708309109 | I25: №ЕАЭС RU C-CN.АД50.В.06508/24 | J25: https://pub.fsa.gov.ru/rss/certificate/view/3376741/certificate | K25: HONDA | L25: ZR-V 2.0L 2023.04-. | M25: 43022-THA-H00 | N25: GDB2217
A26: FDP1168 | B26: FAP | C26: Тормозные колодки дисковые смесь CERAMIC | D26: 1 | E26: 169*128*85 | F26: 3.36 | G26: 4657814218006 | H26: 8708309109 | I26: №ЕАЭС RU C-CN.АД50.В.06508/24 | J26: https://pub.fsa.gov.ru/rss/certificate/view/3376741/certificate | K26: ROLLS-ROYCE | L26: Ghost 6.6L 2009.04-2020.03 | M26: 34 11 4 073 048 | N26: GDB1826 | O26: BD-1445
A27: FP11200 | B27: FAP | C27: Тормозной диск с покрытием GEOMET | D27: 2 | E27: 330*320*50 | F27: 7.5 | G27: 4657814202524 | H27: =VLOOKUP(A27,[1]Лист_1!$A$12:$F$2168,3,0) -> 8708309109 | I27: №ЕАЭС RU C-CN.АД50.В.06508/24 | J27: https://pub.fsa.gov.ru/rss/certificate/view/3376741/certificate | K27: CHEVROLET | L27: Vectra 2.2L 1997.12-2005.12 | M27: 93182284
A28: FP10459 | B28: FAP | C28: Тормозной диск с покрытием GEOMET | D28: 2 | E28: 350*340*60 | F28: 5.4 | G28: 4657814200650 | H28: =VLOOKUP(A28,[1]Лист_1!$A$12:$F$2168,3,0) -> 8708309109 | I28: №ЕАЭС RU C-CN.АД50.В.06508/24 | J28: https://pub.fsa.gov.ru/rss/certificate/view/3376741/certificate | K28: FORD | L28: Galaxy 2.2L 2010.11-2015.06 | M28: 1 379 931 | N28: DF4766
A29: FDP0092 | B29: FAP | C29: Тормозные колодки дисковые смесь CERAMIC | D29: 1 | E29: 139*88*90 | F29: 1.115 | G29: 4657814212967 | H29: 8708309109 | I29: №ЕАЭС RU C-CN.АД50.В.06508/24 | J29: https://pub.fsa.gov.ru/rss/certificate/view/3376741/certificate | K29: TOYOTA | L29: Aurion 3.5L 2011.09-2018.03 | M29: 04466-06070 | N29: GDB3426 | O29: BD-7532
A30: FP15125 | B30: FAP | C30: Тормозной диск с покрытием GEOMET | D30: 2 | F30: 4 | G30: 4657814221938 | H30: =VLOOKUP(A30,[1]Лист_1!$A$12:$F$2168,3,0) -> 8708309109 | I30: №ЕАЭС RU C-CN.АД58.В.01103/25 | J30: https://pub.fsa.gov.ru/rss/certificate/view/3554818/certificate | K30: JAC | L30: S7 | M30: 3504300U0010
A31: FP13257 | B31: FAP | C31: Тормозной диск с покрытием GEOMET | D31: 2 | E31: 350*340*60 | F31: 10.4 | G31: 4657814207017 | H31: =VLOOKUP(A31,[1]Лист_1!$A$12:$F$2168,3,0) -> 8708309109 | I31: №ЕАЭС RU C-CN.АД50.В.06508/24 | J31: https://pub.fsa.gov.ru/rss/certificate/view/3376741/certificate | K31: AUDI | L31: A7 Sportback Quattro 3.0L 2011.11-2015.03 | M31: 4GD 615 301 | N31: DF6148 | O31: BN-1253
A32: FP10667 | B32: FAP | C32: Тормозной диск с покрытием GEOMET | D32: 2 | E32: 330*320*60 | F32: 5.82 | G32: 4657814201749 | H32: =VLOOKUP(A32,[1]Лист_1!$A$12:$F$2168,3,0) -> 8708309109 | I32: №ЕАЭС RU C-CN.АД50.В.06508/24 | J32: https://pub.fsa.gov.ru/rss/certificate/view/3376741/certificate | K32: RENAULT | L32: Captur 1.6L 2022.01-. | M32: 43206-4EA0A | N32: DF6787
A33: FP11447 | B33: FAP | C33: Тормозной диск с покрытием GEOMET | D33: 2 | E33: 310*300*60 | F33: 6.1 | G33: 4657814200230 | H33: =VLOOKUP(A33,[1]Лист_1!$A$12:$F$2168,3,0) -> 8708309109 | I33: №ЕАЭС RU C-CN.АД50.В.06508/24 | J33: https://pub.fsa.gov.ru/rss/certificate/view/3376741/certificate | K33: VW | L33: Jetta 2.0L 2010.06-2017.12 | M33: 1K0 615 301 AC | N33: DF4839 | O33: BN-1200
A34: FDP2094 | B34: FAP | C34: Тормозные колодки дисковые смесь CERAMIC | D34: 1 | E34: 139*88*90 | F34: 0.82 | G34: 4657814216897 | H34: 8708309109 | I34: №ЕАЭС RU C-CN.АД50.В.06508/24 | J34: https://pub.fsa.gov.ru/rss/certificate/view/3376741/certificate | K34: TOYOTA | L34: NOAH | M34: 04466-28120
A35: FDP1412 | B35: FAP | C35: Тормозные колодки дисковые смесь CERAMIC | D35: 1 | E35: 164*88*90 | F35: 1.58 | G35: 4657814216859 | H35: 8708309109 | I35: №ЕАЭС RU C-CN.АД50.В.06508/24 | J35: https://pub.fsa.gov.ru/rss/certificate/view/3376741/certificate | K35: MAZDA | L35: 3 2.0L 2021.02-. | M35: BCYA-33-28ZA
A36: FDP0929 | B36: FAP | C36: Тормозные колодки дисковые смесь CERAMIC | D36: 1 | E36: 199*83*85 | F36: 1.8 | G36: 4657814215562 | H36: 8708309109 | I36: №ЕАЭС RU C-CN.АД50.В.06508/24 | J36: https://pub.fsa.gov.ru/rss/certificate/view/3376741/certificate | K36: NISSAN | L36: Datsun 2.7L 1998.02-2001.10 | M36: 41000-10G08 | N36: GDB766
A37: FDP0356 | B37: FAP | C37: Тормозные колодки дисковые смесь CERAMIC | D37: 1 | E37: 249*148*90 | F37: 3.33 | G37: 4657814215166 | H37: 8708309109 | I37: №ЕАЭС RU C-CN.АД50.В.06508/24 | J37: https://pub.fsa.gov.ru/rss/certificate/view/3376741/certificate | K37: ISUZU | L37: Elf 150 3.0L 2003.10-. | M37: 41060-89T0D | N37: GDB7233
A38: FDP1045 | B38: FAP | C38: Тормозные колодки дисковые смесь CERAMIC | D38: 1 | E38: 164*88*90 | F38: 1.55 | G38: 4657814215630 | H38: 8708309109 | I38: №ЕАЭС RU C-CN.АД50.В.06508/24 | J38: https://pub.fsa.gov.ru/rss/certificate/view/3376741/certificate | K38: TOYOTA | L38: Liteace 1.5L 1989.07-1998.04 | M38: 04465-28050 | N38: GDB1043
A39: FDP0940 | B39: FAP | C39: Тормозные колодки дисковые смесь CERAMIC | D39: 1 | E39: 164*88*90 | F39: 1.38 | G39: 4657814216651 | H39: 8708309109 | I39: №ЕАЭС RU C-CN.АД50.В.06508/24 | J39: https://pub.fsa.gov.ru/rss/certificate/view/3376741/certificate | K39: CHEVROLET | L39: Tahoe 5.3L 2006.10-2014.03 | M39: 19159252
A40: FP15062 | B40: FAP | C40: Тормозной диск с покрытием GEOMET | D40: 2 | E40: 0 | F40: 12.32 | G40: 4657814222393 | H40: =VLOOKUP(A40,[1]Лист_1!$A$12:$F$2168,3,0) -> 8708309109 | I40: №ЕАЭС RU C-CN.АД58.В.01103/25 | J40: https://pub.fsa.gov.ru/rss/certificate/view/3554818/certificate | K40: CHANGAN | L40: UNI-K | M40: CD569F2603010701 | N40: - | O40: -
A41: FP12514 | B41: FAP | C41: Тормозной диск с покрытием GEOMET | D41: 2 | E41: 0 | F41: 5.8 | G41: 4657814222676 | H41: =VLOOKUP(A41,[1]Лист_1!$A$12:$F$2168,3,0) -> 8708309109 | I41: №ЕАЭС RU C-CN.АД50.В.06508/24 | J41: https://pub.fsa.gov.ru/rss/certificate/view/3376741/certificate | K41: GREAT WALL | L41: WINGLE | M41: 3103101P01 | N41: - | O41: -
A42: FP12445 | B42: FAP | C42: Тормозной диск с покрытием GEOMET | D42: 2 | E42: 0 | F42: 7.38 | G42: 4657814222744 | H42: 8708309109 | I42: №ЕАЭС RU C-CN.АД50.В.06508/24 | J42: https://pub.fsa.gov.ru/rss/certificate/view/3376741/certificate | K42: BRILLIANCE | L42: V3 | M42: 5496035 | N42: - | O42: -
A43: FP12426 | B43: FAP | C43: Тормозной диск с покрытием GEOMET | D43: 2 | E43: 0 | F43: 6.56 | G43: 4657814222775 | H43: 8708309109 | I43: №ЕАЭС RU C-CN.АД50.В.06508/24 | J43: https://pub.fsa.gov.ru/rss/certificate/view/3376741/certificate | K43: JAC | L43: IEV7S | M43: 3503011U1910 | N43: - | O43: -
A44: FP10404 | B44: FAP | C44: Тормозной диск с покрытием GEOMET | D44: 2 | E44: 330*320*70 | F44: 5.35 | G44: 4657814207543 | H44: 8708309109 | I44: №ЕАЭС RU C-CN.АД50.В.06508/24 | J44: https://pub.fsa.gov.ru/rss/certificate/view/3376741/certificate | K44: TOYOTA | L44: Corolla Verso 2.2L 2005.09-2009.03 | M44: 42431-0F010
A45: FP15091 | B45: FAP | C45: Тормозной диск с покрытием GEOMET | D45: 2 | E45: 0 | F45: 0 | G45: 4657814222188 | H45: 8708309109 | I45: №ЕАЭС RU C-CN.АД58.В.01103/25 | J45: https://pub.fsa.gov.ru/rss/certificate/view/3554818/certificate | K45: FAW | L45: BESTUNE T77 | M45: 3502111BK01 | N45: - | O45: -
A46: FDP0509 | B46: FAP | C46: Тормозные колодки дисковые смесь CERAMIC | D46: 1 | E46: 164*88*90 | F46: 1.23 | G46: 4657814214367 | H46: 8708309109 | I46: №ЕАЭС RU C-CN.АД50.В.06508/24 | J46: https://pub.fsa.gov.ru/rss/certificate/view/3376741/certificate | K46: NISSAN | L46: ALMERA (N17) | SUNNY | LATIO | V-DRIVE | M46: 41060-1HM0J | N46: GDB3613
A47: FDP1080 | B47: FAP | C47: Тормозные колодки дисковые смесь CERAMIC | D47: 1 | E47: 164*88*90 | F47: 1.79 | G47: 4657814217160 | H47: 8708309109 | I47: №ЕАЭС RU C-CN.АД50.В.06508/24 | J47: https://pub.fsa.gov.ru/rss/certificate/view/3376741/certificate | K47: HONDA | L47: Accord 3.0L 2002.09-2008.05 | M47: 06450S0KJ01 | N47: GDB3240 | O47: BD-3403
A48: FP11424 | B48: FAP | C48: Тормозной диск с покрытием GEOMET | D48: 2 | E48: 330*320*60 | F48: 6.42 | G48: 4657814203583 | H48: 8708309109 | I48: №ЕАЭС RU C-CN.АД50.В.06508/24 | J48: https://pub.fsa.gov.ru/rss/certificate/view/3376741/certificate | K48: ALFA ROMEO | L48: 155 2.0L 1992.01-1997.12 | M48: 60813038 | N48: DF2566
A49: FDP1139 | B49: FAP | C49: Тормозные колодки дисковые смесь CERAMIC | D49: 1 | E49: 125*85*85 | F49: 0.75 | G49: 4657814223383 | H49: 8708309109 | I49: №ЕАЭС RU C-CN.АД50.В.06508/24 | J49: https://pub.fsa.gov.ru/rss/certificate/view/3376741/certificate | K49: BYD | L49: SONG 2.0 TID | M49: 10757420-00 | N49: GDB7890 | O49: -
A50: FP14996 | B50: FAP | C50: Тормозной диск с покрытием GEOMET | D50: 2 | E50: 0 | F50: 11.16 | G50: 4657814219805 | H50: 8708309109 | I50: №ЕАЭС RU C-CN.АД58.В.01103/25 | J50: https://pub.fsa.gov.ru/rss/certificate/view/3554818/certificate | K50: HONGQI | L50: HS5 | M50: 3501111DD01 | N50: - | O50: -
A51: FDP0243 | B51: FAP | C51: Тормозные колодки дисковые смесь CERAMIC | D51: 1 | E51: 185*80*80 | F51: 1.67 | G51: 4657814219867 | H51: 8708309109 | I51: №ЕАЭС RU C-CN.АД50.В.06508/24 | J51: https://pub.fsa.gov.ru/rss/certificate/view/3376741/certificate | K51: NISSAN | L51: Maxima 2009-2014 | M51: D1060-2GD0A | N51: GDB3467 | O51: -
A52: FBS10236 | B52: FAP | C52: Тормозные колодки барабанные PREMIUM | D52: 1 | E52: 331*223*132 | F52: 2.95 | G52: 4657814223369 | H52: =VLOOKUP(A52,[1]Лист_1!$A$12:$F$2168,3,0) -> 8708309909 | I52: №ЕАЭС RU C-CN.АД50.В.06508/24 | J52: https://pub.fsa.gov.ru/rss/certificate/view/3376741/certificate | K52: ISUZU | L52: Fuego 2.8L 1997.10-2003.08 | M52: 8971132201 | N52: GS8462 | O52: -
A53: FP12076 | B53: FAP | C53: Тормозной диск с покрытием GEOMET | D53: 2 | E53: 370*360*70 | F53: 12.35 | G53: 4657814205051 | H53: 8708309109 | I53: №ЕАЭС RU C-CN.АД50.В.06508/24 | J53: https://pub.fsa.gov.ru/rss/certificate/view/3376741/certificate | K53: VW | L53: Campmobile 2.0L 2009.08-2015.08 | M53: 7E0 615 301 C | N53: DF6499S
A54: FDP2034 | B54: FAP | C54: Тормозные колодки дисковые смесь CERAMIC | D54: 1 | E54: 139*88*90 | F54: 0.97 | G54: 4657814215449 | H54: 8708309109 | I54: №ЕАЭС RU C-CN.АД50.В.06508/24 | J54: https://pub.fsa.gov.ru/rss/certificate/view/3376741/certificate | K54: HAVAL | L54: JOLION SUV | M54: 3502126XGW02A | O54: BD-2236
A55: FDP1020 | B55: FAP | C55: Тормозные колодки дисковые смесь CERAMIC | D55: 1 | E55: 125*85*85 | F55: 0.79 | G55: 4657814220177 | H55: 8708309109 | I55: №ЕАЭС RU C-CN.АД50.В.06508/24 | J55: https://pub.fsa.gov.ru/rss/certificate/view/3376741/certificate | K55: MAZDA | L55: 6 3.0L 2004.01-2008.12 | M55: GKYA2643Z | N55: GDB1027 | O55: -
A56: FDP0376 | B56: FAP | C56: Тормозные колодки дисковые смесь CERAMIC | D56: 1 | E56: 189*128*85 | F56: 1.75 | G56: 4657814218013 | H56: 8708309109 | I56: №ЕАЭС RU C-CN.АД50.В.06508/24 | J56: https://pub.fsa.gov.ru/rss/certificate/view/3376741/certificate | K56: BMW | L56: 320i xDrive Gran Turismo 2.0L 2013.07-2016.06 | M56: 34 10 6 884 243 | N56: GDB1934 | O56: BD-1446
A57: FP10080 | B57: FAP | C57: Тормозной диск с покрытием GEOMET | D57: 2 | E57: 330*320*70 | F57: 5.41 | G57: 4657814201831 | H57: 8708309109 | I57: №ЕАЭС RU C-CN.АД50.В.06508/24 | J57: https://pub.fsa.gov.ru/rss/certificate/view/3376741/certificate | K57: BMW | L57: 518i 1.8L 1989.09-1994.04 | M57: 34211156668
A58: FP15095 | B58: FAP | C58: Тормозной диск с покрытием GEOMET | D58: 2 | F58: 5.5 | G58: 4657814222157 | H58: 8708309109 | I58: №ЕАЭС RU C-CN.АД58.В.01103/25 | J58: https://pub.fsa.gov.ru/rss/certificate/view/3554818/certificate | K58: CHERY | L58: TIGGO 3 | M58: T113502075BC
A59: FP11485 | B59: FAP | C59: Тормозной диск с покрытием GEOMET | D59: 2 | E59: 310*300*60 | F59: 7.6 | G59: 4657814204733 | H59: 8708309109 | I59: №ЕАЭС RU C-CN.АД50.В.06508/24 | J59: https://pub.fsa.gov.ru/rss/certificate/view/3376741/certificate | K59: NISSAN | L59: Prairie 2.0L 1998.11-2004.12 | M59: 402064U103 | N59: DF4316
A60: FP14713 | B60: FAP | C60: Тормозной диск с покрытием GEOMET | D60: 2 | E60: 330*320*50 | F60: 7.8 | G60: 4657814200124 | H60: 8708309109 | I60: №ЕАЭС RU C-CN.АД50.В.06508/24 | J60: https://pub.fsa.gov.ru/rss/certificate/view/3376741/certificate | K60: JAC | L60: S4 | M60: 3500330U3400
A61: FP13635 | B61: FAP | C61: Тормозной диск с покрытием GEOMET | D61: 2 | E61: 330*320*60 | F61: 8.12 | G61: 4657814209134 | H61: 8708309109 | I61: №ЕАЭС RU C-CN.АД50.В.06508/24 | J61: https://pub.fsa.gov.ru/rss/certificate/view/3376741/certificate | K61: HONDA | L61: ACURA TRUCK RDX 4-2.3L | M61: 45251-STK-A00 | N61: DF7373
A62: FDP0634 | B62: FAP | C62: Тормозные колодки дисковые смесь CERAMIC | D62: 1 | E62: 169*128*85 | F62: 1.08 | G62: 4657814214633 | H62: 8708309109 | I62: №ЕАЭС RU C-CN.АД50.В.06508/24 | J62: https://pub.fsa.gov.ru/rss/certificate/view/3376741/certificate | K62: DAIHATSU | L62: Move 1.0L 1998.10-2000.12 | M62: AY040-KE118 | N62: GDB3220 | O62: BD-2401
A63: FP12519 | B63: FAP | C63: Тормозной диск с покрытием GEOMET | D63: 2 | E63: 0 | F63: 7.82 | G63: 4657814219553 | H63: 8708309109 | I63: №ЕАЭС RU C-CN.АД50.В.06508/24 | J63: https://pub.fsa.gov.ru/rss/certificate/view/3376741/certificate | K63: HAVAL | L63: H9 | M63: 3502011XKV86A | N63: - | O63: -
A64: FP15097 | B64: FAP | C64: Тормозной диск с покрытием GEOMET | D64: 2 | E64: 0 | F64: 8.73 | G64: 4657814222133 | H64: 8708309109 | I64: №ЕАЭС RU C-CN.АД58.В.01103/25 | J64: https://pub.fsa.gov.ru/rss/certificate/view/3554818/certificate | K64: BYD | L64: HAN | M64: 1307333200 | N64: - | O64: -
A65: FP10945 | B65: FAP | C65: Тормозной диск с покрытием GEOMET | D65: 2 | E65: 0 | F65: 4.56 | G65: 4657814222850 | H65: 8708309109 | I65: №ЕАЭС RU C-CN.АД50.В.06508/24 | J65: https://pub.fsa.gov.ru/rss/certificate/view/3376741/certificate | K65: ZOTYE | L65: COUPA | M65: 3502101001B0127009 | N65: - | O65: -
A66: FP15008 | B66: FAP | C66: Тормозной диск с покрытием GEOMET | D66: 2 | E66: 0 | F66: 3.78 | G66: 4657814219768 | H66: 8708309109 | I66: №ЕАЭС RU C-CN.АД58.В.01103/25 | J66: https://pub.fsa.gov.ru/rss/certificate/view/3554818/certificate | K66: LIVAN | L66: X3PRO | M66: 1014030218 | N66: - | O66: -
A67: FDP0260 | B67: FAP | C67: Тормозные колодки дисковые смесь CERAMIC | D67: 1 | E67: 189*128*85 | F67: 2.05 | G67: 4657814214312 | H67: 8708309109 | I67: №ЕАЭС RU C-CN.АД50.В.06508/24 | J67: https://pub.fsa.gov.ru/rss/certificate/view/3376741/certificate | K67: VW | L67: Tiguan 2.0L 2007.11-2018.07 | M67: 5N0698151 | N67: GDB1762 | O67: BD-8038
A68: FDP0678 | B68: FAP | C68: Тормозные колодки дисковые смесь CERAMIC | D68: 1 | E68: 185*80*80 | F68: 1.97 | G68: 4657814220085 | H68: 8708309109 | I68: №ЕАЭС RU C-CN.АД50.В.06508/24 | J68: https://pub.fsa.gov.ru/rss/certificate/view/3376741/certificate | K68: HYUNDAI | L68: Santa Fe 2.2L 2018.07-2020.11 | M68: 58101S1A70 | N68: GDB7976 | O68: BD-3642
A69: FDP0506 | B69: FAP | C69: Тормозные колодки дисковые смесь CERAMIC | D69: 1 | E69: 114*83*85 | F69: 0.96 | G69: 4657814213568 | H69: 8708309109 | I69: №ЕАЭС RU C-CN.АД50.В.06508/24 | J69: https://pub.fsa.gov.ru/rss/certificate/view/3376741/certificate | K69: MITSUBISHI | L69: Challenger 2.5L 1998.08-2009.02 | M69: AY060-MT009 | N69: GDB3239 | O69: BD-5511
A70: FDP2619 | B70: FAP | C70: Тормозные колодки дисковые смесь CERAMIC | D70: 1 | E70: 0 | F70: 0 | G70: 4657814221563 | H70: 8708309109 | I70: №ЕАЭС RU C-CN.АД58.В.01103/25 | J70: https://pub.fsa.gov.ru/rss/certificate/view/3554818/certificate | K70: ORA | L70: 03 | M70: 3501145XGW02A | N70: - | O70: -
A71: FDP0727 | B71: FAP | C71: Тормозные колодки дисковые смесь CERAMIC | D71: 1 | E71: 164*88*90 | F71: 0.81 | G71: 4657814218389 | H71: 8708309109 | I71: №ЕАЭС RU C-CN.АД50.В.06508/24 | J71: https://pub.fsa.gov.ru/rss/certificate/view/3376741/certificate | K71: CHEVROLET | L71: Epica 2.0L 2005.01-2006.12 | M71: 96475028 | N71: GDB3346 | O71: BD-1804
A72: FBS10116 | B72: FAP | C72: Тормозные колодки барабанные PREMIUM | D72: 1 | E72: 331*223*132 | F72: 3.24 | G72: 4657814212813 | H72: 8708309909 | I72: №ЕАЭС RU C-CN.АД50.В.06508/24 | J72: https://pub.fsa.gov.ru/rss/certificate/view/3376741/certificate | K72: ISUZU | L72: D-Max 2.5L 2006.10-2012.10 | M72: 8980079630 | N72: GS7809 | O72: -
A73: FDP1291 | B73: FAP | C73: Тормозные колодки дисковые смесь CERAMIC | D73: 1 | E73: 114*83*85 | F73: 1.03 | G73: 4657814218211 | H73: 8708309109 | I73: №ЕАЭС RU C-CN.АД50.В.06508/24 | J73: https://pub.fsa.gov.ru/rss/certificate/view/3376741/certificate | K73: LEXUS | L73: LS 460 4.6L 2012.09-. | M73: 04466-0W010-79 | N73: GDB3475 | O73: BD-7613
A74: FP12932 | B74: FAP | C74: Тормозной диск с покрытием GEOMET | D74: 2 | E74: 0 | F74: 6.06 | G74: 4657814222614 | H74: 8708309109 | I74: №ЕАЭС RU C-CN.АД50.В.06508/24 | J74: https://pub.fsa.gov.ru/rss/certificate/view/3376741/certificate | K74: MG | L74: 350 | M74: 50015010 | N74: - | O74: -
A75: FDP0149 | B75: FAP | C75: Тормозные колодки дисковые смесь CERAMIC | D75: 1 | E75: 189*128*85 | F75: 1.76 | G75: 4657814215197 | H75: 8708309109 | I75: №ЕАЭС RU C-CN.АД50.В.06508/24 | J75: https://pub.fsa.gov.ru/rss/certificate/view/3376741/certificate | K75: JAGUAR | L75: X-Type 2.2L 2006.05-2009.12 | M75: 1 126 718 | N75: GDB1434 | O75: BD-3006
A76: FP15094 | B76: FAP | C76: Тормозной диск с покрытием GEOMET | D76: 2 | F76: 10.25 | G76: 4657814222164 | H76: 8708309109 | I76: №ЕАЭС RU C-CN.АД58.В.01103/25 | J76: https://pub.fsa.gov.ru/rss/certificate/view/3554818/certificate | K76: HONGQI | L76: HS7 | M76: 3502111DA01
A77: FD30216 | B77: FAP | C77: Тормозной барабан с покрытием GEOMET | D77: 2 | E77: 390*380*100 | F77: 10.16 | G77: 4657814203279 | H77: 8708309909 | I77: №ЕАЭС RU C-CN.АД50.В.06508/24 | J77: https://pub.fsa.gov.ru/rss/certificate/view/3376741/certificate | K77: MITSUBISHI | L77: Pajero Sport 3.5L 2008.09-. | M77: MN102439 | N77: DB7129
A78: FP15128 | B78: FAP | C78: Тормозной диск с покрытием GEOMET | D78: 2 | F78: 5.2 | G78: 4657814221907 | H78: 8708309109 | I78: №ЕАЭС RU C-CN.АД58.В.01103/25 | J78: https://pub.fsa.gov.ru/rss/certificate/view/3554818/certificate | K78: BYD | L78: SONG | M78: SA3EA3502111
A79: FP11640 | B79: FAP | C79: Тормозной диск с покрытием GEOMET | D79: 2 | E79: 330*320*60 | F79: 6.88 | G79: 4657814201350 | H79: 8708309109 | I79: №ЕАЭС RU C-CN.АД50.В.06508/24 | J79: https://pub.fsa.gov.ru/rss/certificate/view/3376741/certificate | K79: MITSUBISHI | L79: Galant 2.5L 1996.09-2002.10 | M79: 4249.58 | N79: DF6174
A80: FDP105801 | B80: FAP | C80: Тормозные колодки дисковые смесь CERAMIC | D80: 1 | E80: 219*148*95 | F80: 3.17 | G80: 4657814217917 | H80: 8708309109 | I80: №ЕАЭС RU C-CN.АД50.В.06508/24 | J80: https://pub.fsa.gov.ru/rss/certificate/view/3376741/certificate | K80: AUDI | L80: A8 Quattro 2.0L 2016.09-2018.01 | M80: 4H0698151E | N80: GDB1884
A81: FDP0937 | B81: FAP | C81: Тормозные колодки дисковые смесь CERAMIC | D81: 1 | E81: 139*88*90 | F81: 1.3 | G81: 4657814218969 | H81: 8708309109 | I81: №ЕАЭС RU C-CN.АД50.В.06508/24 | J81: https://pub.fsa.gov.ru/rss/certificate/view/3376741/certificate | K81: NISSAN | L81: Patrol 5.6L 2010.04-. | M81: D4060-1LB0A | N81: GDB7959
A82: FP12155 | B82: FAP | C82: Тормозной диск с покрытием GEOMET | D82: 2 | E82: 310*300*60 | F82: 7.02 | G82: 4657814200193 | H82: 8708309109 | I82: №ЕАЭС RU C-CN.АД50.В.06508/24 | J82: https://pub.fsa.gov.ru/rss/certificate/view/3376741/certificate | K82: DACIA | L82: Duster 1.0L 2023.11-. | M82: 40206-00Q0L | N82: DF6072
A83: FDP028901 | B83: FAP | C83: Тормозные колодки дисковые смесь CERAMIC | D83: 1 | E83: 189*128*85 | F83: 1.76 | G83: 4657814215715 | H83: 8708309109 | I83: №ЕАЭС RU C-CN.АД50.В.06508/24 | J83: https://pub.fsa.gov.ru/rss/certificate/view/3376741/certificate | K83: BMW | L83: 520d 2.0L 1999.09-2003.05 | M83: 34116761278 | N83: GDB1264 | O83: BD-1410
A84: FDP0252 | B84: FAP | C84: Тормозные колодки дисковые смесь CERAMIC | D84: 1 | E84: 169*128*85 | F84: 0.98 | G84: 4657814214800 | H84: 8708309109 | I84: №ЕАЭС RU C-CN.АД50.В.06508/24 | J84: https://pub.fsa.gov.ru/rss/certificate/view/3376741/certificate | K84: DAIHATSU | L84: Cuore 1.0L 1998.10-2002.12 | M84: 41060-6A00A | N84: GDB3358
A85: FDP0683 | B85: FAP | C85: Тормозные колодки дисковые смесь CERAMIC | D85: 1 | E85: 150*85*85 | F85: 1.3 | G85: 4657814220092 | H85: 8708309109 | I85: №ЕАЭС RU C-CN.АД50.В.06508/24 | J85: https://pub.fsa.gov.ru/rss/certificate/view/3376741/certificate | K85: LAND ROVER | L85: Range Rover Sport 5.0L 2010.01-2013.06 | M85: LR025739 | N85: GDB1824 | O85: BD-5017
A86: FP11371 | B86: FAP | C86: Тормозной диск с покрытием GEOMET | D86: 2 | E86: 290*280*60 | F86: 4.88 | G86: 4657814202388 | H86: 8708309109 | I86: №ЕАЭС RU C-CN.АД50.В.06508/24 | J86: https://pub.fsa.gov.ru/rss/certificate/view/3376741/certificate | K86: TOYOTA | L86: Corolla Fielder 1.5L 2001.03-2004.01 | M86: 4351212650
A87: FP11771 | B87: FAP | C87: Тормозной диск с покрытием GEOMET | D87: 2 | E87: 330*320*60 | F87: 7.34 | G87: 4657814200490 | H87: 8708309109 | I87: №ЕАЭС RU C-CN.АД50.В.06508/24 | J87: https://pub.fsa.gov.ru/rss/certificate/view/3376741/certificate | K87: NISSAN | L87: QASHQAI II SUV (J11, J11_) | ROGUE SPORT | KICKS | M87: 40206-1KC0A | N87: DF4964
A88: FDP1466 | B88: FAP | C88: Тормозные колодки дисковые смесь CERAMIC | D88: 1 | E88: 139*88*90 | F88: 0.7 | G88: 4657814218594 | H88: 8708309109 | I88: №ЕАЭС RU C-CN.АД50.В.06508/24 | J88: https://pub.fsa.gov.ru/rss/certificate/view/3376741/certificate | K88: NISSAN | L88: Clipper | M88: 41060-6A00B | N88: GDB7177
A89: FDP1552 | B89: FAP | C89: Тормозные колодки дисковые смесь CERAMIC | D89: 1 | E89: 139*88*90 | F89: 1.32 | G89: 4657814215265 | H89: 8708309109 | I89: №ЕАЭС RU C-CN.АД50.В.06508/24 | J89: https://pub.fsa.gov.ru/rss/certificate/view/3376741/certificate | K89: SUZUKI | L89: LIANA (ER, RH_) | AERIO | BALENO | M89: AY040-SU009 | N89: GDB7698 | O89: BD-7308
A90: FDP0114 | B90: FAP | C90: Тормозные колодки дисковые смесь CERAMIC | D90: 1 | E90: 199*83*85 | F90: 1.71 | G90: 4657814212950 | H90: 8708309109 | I90: №ЕАЭС RU C-CN.АД50.В.06508/24 | J90: https://pub.fsa.gov.ru/rss/certificate/view/3376741/certificate | K90: LANCIA | L90: Flavia 2.4L 2012.03-2014.12 | M90: AY040-MT022 | N90: GDB3287 | O90: BD-5504
A91: FP10260 | B91: FAP | C91: Тормозной диск с покрытием GEOMET | D91: 2 | E91: 370*360*90 | F91: 7.3 | G91: 4657814202791 | H91: 8708309109 | I91: №ЕАЭС RU C-CN.АД50.В.06508/24 | J91: https://pub.fsa.gov.ru/rss/certificate/view/3376741/certificate | K91: BMW | L91: X5 3.0L 2003.09-2006.12 | M91: 34 21 6 859 678
A92: FDP0057 | B92: FAP | C92: Тормозные колодки дисковые смесь CERAMIC | D92: 1 | E92: 164*88*90 | F92: 1.275 | G92: 4657814213537 | H92: 8708309109 | I92: №ЕАЭС RU C-CN.АД50.В.06508/24 | J92: https://pub.fsa.gov.ru/rss/certificate/view/3376741/certificate | K92: VAUXHALL | L92: Ampera 1.4L 2011.11-. | M92: 13300868 | N92: GDB1927 | O92: BD-1811
A93: FDP0221 | B93: FAP | C93: Тормозные колодки дисковые смесь CERAMIC | D93: 1 | E93: 199*83*85 | F93: 1.89 | G93: 4657814214053 | H93: 8708309109 | I93: №ЕАЭС RU C-CN.АД50.В.06508/24 | J93: https://pub.fsa.gov.ru/rss/certificate/view/3376741/certificate | K93: ACURA | L93: RL 3.5L 1996.01-2004.10 | M93: 06450-S0K-J01 | N93: GDB3268 | O93: BD-3411
A94: FP15122 | B94: FAP | C94: Тормозной диск с покрытием GEOMET | D94: 2 | E94: 0 | F94: 0 | G94: 4657814221952 | H94: 8708309109 | I94: №ЕАЭС RU C-CN.АД58.В.01103/25 | J94: https://pub.fsa.gov.ru/rss/certificate/view/3554818/certificate | K94: GEELY | L94: JIAJI | M94: 4050045100 | N94: - | O94: -
A95: FP15077 | B95: FAP | C95: Тормозной диск с покрытием GEOMET | D95: 2 | E95: 0 | F95: 0 | G95: 4657814222287 | H95: 8708309109 | I95: №ЕАЭС RU C-CN.АД58.В.01103/25 | J95: https://pub.fsa.gov.ru/rss/certificate/view/3554818/certificate | K95: FAW | L95: BESTUNE T77 | M95: 3501111BK01 | N95: - | O95: -
A96: FDP2092 | B96: FAP | C96: Тормозные колодки дисковые смесь CERAMIC | D96: 1 | E96: 164*88*90 | F96: 1.21 | G96: 4657814216729 | H96: 8708309109 | I96: №ЕАЭС RU C-CN.АД50.В.06508/24 | J96: https://pub.fsa.gov.ru/rss/certificate/view/3376741/certificate | K96: LEXUS | L96: LX 500d 3.3L 2021.10-. | M96: 04466-60190 | N96: GDB8434
A97: FP15139 | B97: FAP | C97: Тормозной диск с покрытием GEOMET | D97: 2 | F97: 8.1 | G97: 4657814223147 | H97: 8708309109 | I97: №ЕАЭС RU C-CN.АД58.В.01103/25 | J97: https://pub.fsa.gov.ru/rss/certificate/view/3554818/certificate | K97: JETOUR | L97: DASHING | M97: F013001075
A98: FP15158 | B98: FAP | C98: Тормозной диск с покрытием GEOMET | D98: 2 | F98: 9.54 | G98: 4657814223833 | H98: 8708309109 | I98: №ЕАЭС RU C-CN.АД58.В.01103/25 | J98: https://pub.fsa.gov.ru/rss/certificate/view/3554818/certificate | K98: JETOUR | L98: T2 | M98: F263001075
A99: FP14985 | B99: FAP | C99: Тормозной диск с покрытием GEOMET | D99: 2 | E99: 0 | F99: 9.6 | G99: 4657814219140 | H99: 8708309109 | I99: №ЕАЭС RU C-CN.АД58.В.01103/25 | J99: https://pub.fsa.gov.ru/rss/certificate/view/3554818/certificate | K99: LIXIANG | L99: L7 | M99: X0135020015 | N99: - | O99: -
A100: FP12709 | B100: FAP | C100: Тормозной диск с покрытием GEOMET | D100: 2 | E100: 0 | F100: 7.35 | G100: 4657814222652 | H100: 8708309109 | I100: №ЕАЭС RU C-CN.АД50.В.06508/24 | J100: https://pub.fsa.gov.ru/rss/certificate/view/3376741/certificate | K100: DONG FENG | L100: 580 | M100: 3501101SA01 | N100: - | O100: -
...
