Workbook

Sheet Лист1
B6: ='Бланк заказа с НДС'!B6 -> ТЛТ00003768 | I6: ='Бланк заказа с НДС'!Q6*1 -> 0
B7: ='Бланк заказа с НДС'!B7 -> ТЛТ00003785 | I7: ='Бланк заказа с НДС'!Q7*1 -> 0
B8: ='Бланк заказа с НДС'!B8 -> ТЛТ00003794 | I8: ='Бланк заказа с НДС'!Q8*1 -> 0
B9: ='Бланк заказа с НДС'!B9 -> ТЛТ00003795 | I9: ='Бланк заказа с НДС'!Q9*1 -> 0
B10: ='Бланк заказа с НДС'!B10 -> ТЛТ00003804 | I10: ='Бланк заказа с НДС'!Q10*1 -> 0
B11: ='Бланк заказа с НДС'!B11 -> ТЛТ00003806 | I11: ='Бланк заказа с НДС'!Q11*1 -> 0
B12: ='Бланк заказа с НДС'!B12 -> ТЛТ00003754 | I12: ='Бланк заказа с НДС'!Q12*1 -> 0
B13: ='Бланк заказа с НДС'!B13 -> ТЛТ00003755 | I13: ='Бланк заказа с НДС'!Q13*1 -> 0
B14: ='Бланк заказа с НДС'!B14 -> ТЛТ00003763 | I14: ='Бланк заказа с НДС'!Q14*1 -> 0
B15: ='Бланк заказа с НДС'!B15 -> ТЛТ00003764 | I15: ='Бланк заказа с НДС'!Q15*1 -> 0
B16: ='Бланк заказа с НДС'!B16 -> ТЛТ00003709 | I16: ='Бланк заказа с НДС'!Q16*1 -> 0
B17: ='Бланк заказа с НДС'!B17 -> ТЛТ00003716 | I17: ='Бланк заказа с НДС'!Q17*1 -> 0
... B340: ='Бланк заказа с НДС'!B340 -> 0 | I340: ='Бланк заказа с НДС'!Q340*1 -> 0
B341: ='Бланк заказа с НДС'!B341 -> 0
B342: ='Бланк заказа с НДС'!B342 -> 0 | I342: ='Бланк заказа с НДС'!Q342*1 -> 0
B343: ='Бланк заказа с НДС'!B343 -> 0 | I343: ='Бланк заказа с НДС'!Q343*1 -> 0
B344: ='Бланк заказа с НДС'!B344 -> 0 | I344: ='Бланк заказа с НДС'!Q344*1 -> 0
B345: ='Бланк заказа с НДС'!B345 -> 0 | I345: ='Бланк заказа с НДС'!Q345*1 -> 0
B346: ='Бланк заказа с НДС'!B354 -> 0 | I346: ='Бланк заказа с НДС'!Q354*1 -> 0
B347: ='Бланк заказа с НДС'!B355 -> 0 | I347: ='Бланк заказа с НДС'!Q355*1 -> 0

Sheet Бланк заказа с НДС
L1: БЛАНК ЗАКАЗА ТД АВТОКОМПОНЕНТЫ
A2: Покупатель: | Q2: =Q342 -> 0 | R2: =R342 -> 0
A3: 1 | B3: 2 | F3: 3 | G3: 4 | H3: 5 | I3: 6 | K3: 7 | L3: 8 | M3: 9 | N3: 10 | O3: 11 | P3: 12 | Q3: 13 | R3: 14 | S3: 15 | T3: 16 | U3: 17 | V3: 18
A4: № | B4: КОД | C4: № сертификата | D4: ссылка | E4: срок действия | F4: Шифр БЗАК (старый) | G4: ОЕМ номер | I4: Штрихкод одиночный | J4: Штрихкод грпповой | K4: Шифр БЗАК | L4: Наименование | M4: Цена с 01.03.2026 | N4: Цена с 01.07.2026 | O4: Процент изм | P4: Норма упаковки | Q4: Кол-во (шт) | R4: Сумма (руб) | S4: Вес БРУТТО (кг) | T4: Вес НЕТТО (кг) | U4: Итого Вес БРУТТО (кг) | V4: Итого Вес НЕТТО (кг) | W4: дБ
Z5: *
A6: =_xlfn.AGGREGATE(3,3,$B$6:B6) -> 1 | B6: ТЛТ00003768 | C6: ЕАЭС RU С-RU.АИ24.В.00794/23 | D6: https://pub.fsa.gov.ru/rss/certificate/view/3291031/baseInfo | E6: 46598 | F6: 2101-2904082 | G6: 21012904082 | H6: о | I6: 4612728050012 | J6: 4658790008513 | K6: 906-518 | L6: 2101-2904082 Палец шаровой передней подвески нижний с чехлом защитным | M6: 436.15 | N6: 436.15 | O6: =N6/M6-1 -> 0 | P6: 20 | R6: =N6*Q6 -> 0 | S6: 0.55 | T6: 0.52 | U6: =Q6*S6 -> 0 | V6: =Q6*T6 -> 0 | W6: =IF(H6="о",IF(Q6>0,1,0),IF(H6="з",IF(Q6>0,1,0),0)) -> 0 | X6: =IFERROR(VLOOKUP(B6,Лист2!A:B,2,0),0) -> 1 | Y6: =N6-X6 -> 435.15 | AB6: =ROUND(N6,0) -> 436 | AC6: =N6-AB6 -> 0.15
A7: =_xlfn.AGGREGATE(3,3,$B$6:B7) -> 2 | B7: ТЛТ00003785 | C7: ЕАЭС RU С-RU.АИ24.В.00794/23 | D7: https://pub.fsa.gov.ru/rss/certificate/view/3291031/baseInfo | E7: 46598 | F7: 2101-2904082 с кр | G7: 21012904082 | H7: о | I7: 4612728050029 | J7: 4658790008520 | K7: 906-518-01 | L7: 2101-2904082 Палец шаровой передней подвески нижний с чехлом защитным с крепежом | M7: 504.26 | N7: 504.26 | O7: =N7/M7-1 -> 0 | P7: 20 | R7: =N7*Q7 -> 0 | S7: 0.65 | T7: 0.62 | U7: =Q7*S7 -> 0 | V7: =Q7*T7 -> 0 | W7: =IF(H7="о",IF(Q7>0,1,0),IF(H7="з",IF(Q7>0,1,0),0)) -> 0 | X7: =IFERROR(VLOOKUP(B7,Лист2!A:B,2,0),0) -> 1 | Y7: =N7-X7 -> 503.26 | AB7: =ROUND(N7,0) -> 504 | AC7: =N7-AB7 -> 0.26
A8: =_xlfn.AGGREGATE(3,3,$B$6:B8) -> 3 | B8: ТЛТ00003794 | C8: ЕАЭС RU С-RU.АИ24.В.01042/24 | D8: https://pub.fsa.gov.ru/rss/certificate/view/3500098/baseInfo | E8: 47019 | F8: 2101-2904192-03 | G8: 21012904192-03 | H8: о | I8: 4612728050036 | J8: 4658790008537 | K8: 906-519 | L8: БА01-2904192-03 Палец шаровой передней подвески верхний с чехлом защитным | M8: 390.4 | N8: 390.4 | O8: =N8/M8-1 -> 0 | P8: 20 | R8: =N8*Q8 -> 0 | S8: 0.49 | T8: 0.46 | U8: =Q8*S8 -> 0 | V8: =Q8*T8 -> 0 | W8: =IF(H8="о",IF(Q8>0,1,0),IF(H8="з",IF(Q8>0,1,0),0)) -> 0 | X8: =IFERROR(VLOOKUP(B8,Лист2!A:B,2,0),0) -> 1 | Y8: =N8-X8 -> 389.4 | AB8: =ROUND(N8,0) -> 390 | AC8: =N8-AB8 -> 0.4
A9: =_xlfn.AGGREGATE(3,3,$B$6:B9) -> 4 | B9: ТЛТ00003795 | C9: ЕАЭС RU С-RU.АИ24.В.01042/24 | D9: https://pub.fsa.gov.ru/rss/certificate/view/3500098/baseInfo | E9: 47019 | F9: 2101-2904192-03 с кр | G9: 21012904192-03 | H9: о | I9: 4612728050043 | J9: 4658790008544 | K9: 906-519-01 | L9: БА01-2904192-03 Палец шаровой передней подвески верхний с чехлом защитным с крепежом | M9: 451.4 | N9: 451.4 | O9: =N9/M9-1 -> 0 | P9: 20 | R9: =N9*Q9 -> 0 | S9: 0.59 | T9: 0.56 | U9: =Q9*S9 -> 0 | V9: =Q9*T9 -> 0 | W9: =IF(H9="о",IF(Q9>0,1,0),IF(H9="з",IF(Q9>0,1,0),0)) -> 0 | X9: =IFERROR(VLOOKUP(B9,Лист2!A:B,2,0),0) -> 1 | Y9: =N9-X9 -> 450.4 | AB9: =ROUND(N9,0) -> 451 | AC9: =N9-AB9 -> 0.4
A10: =_xlfn.AGGREGATE(3,3,$B$6:B10) -> 5 | B10: ТЛТ00003804 | C10: ЕАЭС RU С-RU.АИ24.В.01042/24 | D10: https://pub.fsa.gov.ru/rss/certificate/view/3500098/baseInfo | E10: 47019 | F10: 2108-2904192-01 | G10: 21082904192-01 | H10: о | I10: 4612728050050 | J10: 4658790008612 | K10: 906-524 | L10: БА08-2904192-01 Палец шаровой передней подвески с чехлом защитным ВАЗ 2108-2109 | M10: 335.5 | N10: 335.5 | O10: =N10/M10-1 -> 0 | P10: 20 | R10: =N10*Q10 -> 0 | S10: 0.36 | T10: 0.33 | U10: =Q10*S10 -> 0 | V10: =Q10*T10 -> 0 | W10: =IF(H10="о",IF(Q10>0,1,0),IF(H10="з",IF(Q10>0,1,0),0)) -> 0 | X10: =IFERROR(VLOOKUP(B10,Лист2!A:B,2,0),0) -> 1 | Y10: =N10-X10 -> 334.5 | AB10: =ROUND(N10,0) -> 336 | AC10: =N10-AB10 -> -0.5
A11: =_xlfn.AGGREGATE(3,3,$B$6:B11) -> 6 | B11: ТЛТ00003806 | C11: ЕАЭС RU С-RU.АИ24.В.01042/24 | D11: https://pub.fsa.gov.ru/rss/certificate/view/3500098/baseInfo | E11: 47019 | F11: 2108-2904192-01 с кр | G11: 21082904192-01 | H11: о | I11: 4612728050067 | J11: 4658790008629 | K11: 906-524-01 | L11: БА08-2904192-01 Палец шаровой передней подвески с чехлом защитным с крепежом ВАЗ 2108-2109 | M11: 368.04 | N11: 368.04 | O11: =N11/M11-1 -> 0 | P11: 20 | R11: =N11*Q11 -> 0 | S11: 0.42 | T11: 0.39 | U11: =Q11*S11 -> 0 | V11: =Q11*T11 -> 0 | W11: =IF(H11="о",IF(Q11>0,1,0),IF(H11="з",IF(Q11>0,1,0),0)) -> 0 | X11: =IFERROR(VLOOKUP(B11,Лист2!A:B,2,0),0) -> 1 | Y11: =N11-X11 -> 367.04 | AB11: =ROUND(N11,0) -> 368 | AC11: =N11-AB11 -> 0.04
A12: =_xlfn.AGGREGATE(3,3,$B$6:B12) -> 7 | B12: ТЛТ00003754 | C12: ЕАЭС RU С-RU.АИ24.В.00794/23 | D12: https://pub.fsa.gov.ru/rss/certificate/view/3291031/baseInfo | E12: 46598 | F12: 2110-2904192 | G12: 21102904192 | H12: о | I12: 4612728050234 | J12: 4658790008643 | K12: 906-525 | L12: БА10-2904192 Палец шаровой передней подвески с чехлом защитным ВАЗ 2110-2112 | M12: 422.94 | N12: 422.94 | O12: =N12/M12-1 -> 0 | P12: 20 | R12: =N12*Q12 -> 0 | S12: 0.4 | T12: 0.37 | U12: =Q12*S12 -> 0 | V12: =Q12*T12 -> 0 | W12: =IF(H12="о",IF(Q12>0,1,0),IF(H12="з",IF(Q12>0,1,0),0)) -> 0 | X12: =IFERROR(VLOOKUP(B12,Лист2!A:B,2,0),0) -> 1 | Y12: =N12-X12 -> 421.94 | AB12: =ROUND(N12,0) -> 423 | AC12: =N12-AB12 -> -0.06
A13: =_xlfn.AGGREGATE(3,3,$B$6:B13) -> 8 | B13: ТЛТ00003755 | C13: ЕАЭС RU С-RU.АИ24.В.00794/23 | D13: https://pub.fsa.gov.ru/rss/certificate/view/3291031/baseInfo | E13: 46598 | F13: 2110-2904192 с кр | G13: 21102904192 | H13: о | I13: 4612728050241 | J13: 4658790008650 | K13: 906-525-01 | L13: БА10-2904192 Палец шаровой передней подвески с чехлом защитным с крепежом ВАЗ 2110-2112 | M13: 453.44 | N13: 453.44 | O13: =N13/M13-1 -> 0 | P13: 20 | R13: =N13*Q13 -> 0 | S13: 0.47 | T13: 0.44 | U13: =Q13*S13 -> 0 | V13: =Q13*T13 -> 0 | W13: =IF(H13="о",IF(Q13>0,1,0),IF(H13="з",IF(Q13>0,1,0),0)) -> 0 | X13: =IFERROR(VLOOKUP(B13,Лист2!A:B,2,0),0) -> 1 | Y13: =N13-X13 -> 452.44 | AB13: =ROUND(N13,0) -> 453 | AC13: =N13-AB13 -> 0.44
A14: =_xlfn.AGGREGATE(3,3,$B$6:B14) -> 9 | B14: ТЛТ00003763 | C14: ЕАЭС RU С-RU.АИ24.В.01042/24 | D14: https://pub.fsa.gov.ru/rss/certificate/view/3500098/baseInfo | E14: 47019 | F14: 1118-2904192-01 | G14: 11182904192-01 | H14: о | I14: 1902008221984 | J14: 4658790008674 | K14: 906-526 | L14: БА18-2904192-01 Палец шаровой передней подвески с чехлом защитным ВАЗ 1118, 2190 | M14: 442.25 | N14: 442.25 | O14: =N14/M14-1 -> 0 | P14: 20 | R14: =N14*Q14 -> 0 | S14: 0.39 | T14: 0.36 | U14: =Q14*S14 -> 0 | V14: =Q14*T14 -> 0 | W14: =IF(H14="о",IF(Q14>0,1,0),IF(H14="з",IF(Q14>0,1,0),0)) -> 0 | X14: =IFERROR(VLOOKUP(B14,Лист2!A:B,2,0),0) -> 1 | Y14: =N14-X14 -> 441.25 | AB14: =ROUND(N14,0) -> 442 | AC14: =N14-AB14 -> 0.25
A15: =_xlfn.AGGREGATE(3,3,$B$6:B15) -> 10 | B15: ТЛТ00003764 | C15: ЕАЭС RU С-RU.АИ24.В.01042/24 | D15: https://pub.fsa.gov.ru/rss/certificate/view/3500098/baseInfo | E15: 47019 | F15: 1118-2904192-01 с кр | G15: 11182904192-01 | H15: о | I15: 1802008221239 | J15: 4658790008681 | K15: 906-526-01 | L15: БА18-2904192-01 Палец шаровой передней подвески с чехлом защитным с крепежом ВАЗ 1118, 2190 | M15: 497.15 | N15: 497.15 | O15: =N15/M15-1 -> 0 | P15: 20 | R15: =N15*Q15 -> 0 | S15: 0.47 | T15: 0.44 | U15: =Q15*S15 -> 0 | V15: =Q15*T15 -> 0 | W15: =IF(H15="о",IF(Q15>0,1,0),IF(H15="з",IF(Q15>0,1,0),0)) -> 0 | X15: =IFERROR(VLOOKUP(B15,Лист2!A:B,2,0),0) -> 1 | Y15: =N15-X15 -> 496.15 | AB15: =ROUND(N15,0) -> 497 | AC15: =N15-AB15 -> 0.15
A16: =_xlfn.AGGREGATE(3,3,$B$6:B16) -> 11 | B16: ТЛТ00003709 | C16: ЕАЭС RU С-RU.АИ24.В.00794/23 | D16: https://pub.fsa.gov.ru/rss/certificate/view/3291031/baseInfo | E16: 46598 | F16: 2101-2904082-05 | G16: 21012904082-05 | H16: о | I16: 4612728050098 | J16: 4658790008551 | K16: 906-520 | L16: БА01-2904082-05 Палец шаровой передней подвески нижний с чехлом защитным (усиленный) в сборе | M16: 474.79 | N16: 474.79 | O16: =N16/M16-1 -> 0 | P16: 20 | R16: =N16*Q16 -> 0 | S16: 0.55 | T16: 0.52 | U16: =Q16*S16 -> 0 | V16: =Q16*T16 -> 0 | W16: =IF(H16="о",IF(Q16>0,1,0),IF(H16="з",IF(Q16>0,1,0),0)) -> 0 | X16: =IFERROR(VLOOKUP(B16,Лист2!A:B,2,0),0) -> 1 | Y16: =N16-X16 -> 473.79 | AB16: =ROUND(N16,0) -> 475 | AC16: =N16-AB16 -> -0.21
A17: =_xlfn.AGGREGATE(3,3,$B$6:B17) -> 12 | B17: ТЛТ00003716 | C17: ЕАЭС RU С-RU.АИ24.В.00794/23 | D17: https://pub.fsa.gov.ru/rss/certificate/view/3291031/baseInfo | E17: 46598 | F17: 2101-2904082-05 с кр | G17: 21012904082-05 | H17: о | I17: 4612728050104 | J17: 4658790008568 | K17: 906-520-01 | L17: БА01-2904082-05 Палец шаровой передней подвески нижний с чехлом защитным (усиленный) в сборе с крепежом | M17: 526.64 | N17: 526.64 | O17: =N17/M17-1 -> 0 | P17: 20 | R17: =N17*Q17 -> 0 | S17: 0.66 | T17: 0.63 | U17: =Q17*S17 -> 0 | V17: =Q17*T17 -> 0 | W17: =IF(H17="о",IF(Q17>0,1,0),IF(H17="з",IF(Q17>0,1,0),0)) -> 0 | X17: =IFERROR(VLOOKUP(B17,Лист2!A:B,2,0),0) -> 1 | Y17: =N17-X17 -> 525.64 | AB17: =ROUND(N17,0) -> 527 | AC17: =N17-AB17 -> -0.36
A18: =_xlfn.AGGREGATE(3,3,$B$6:B18) -> 13 | B18: ТЛТ00003715 | C18: ЕАЭС RU С-RU.АИ24.В.00794/23 | D18: https://pub.fsa.gov.ru/rss/certificate/view/3291031/baseInfo | E18: 46598 | F18: 2101-2904192-05 | G18: 21012904192-05 | H18: о | I18: 4612728050111 | J18: 4658790008575 | K18: 906-521 | L18: БА01-2904192-05 Палец шаровой передней подвески верхний с чехлом защитным (усиленный) в сборе | M18: 474.79 | N18: 474.79 | O18: =N18/M18-1 -> 0 | P18: 20 | R18: =N18*Q18 -> 0 | S18: 0.53 | T18: 0.5 | U18: =Q18*S18 -> 0 | V18: =Q18*T18 -> 0 | W18: =IF(H18="о",IF(Q18>0,1,0),IF(H18="з",IF(Q18>0,1,0),0)) -> 0 | X18: =IFERROR(VLOOKUP(B18,Лист2!A:B,2,0),0) -> 1 | Y18: =N18-X18 -> 473.79 | AB18: =ROUND(N18,0) -> 475 | AC18: =N18-AB18 -> -0.21
A19: =_xlfn.AGGREGATE(3,3,$B$6:B19) -> 14 | B19: ТЛТ00003720 | C19: ЕАЭС RU С-RU.АИ24.В.00794/23 | D19: https://pub.fsa.gov.ru/rss/certificate/view/3291031/baseInfo | E19: 46598 | F19: 2101-2904192-05 с кр | G19: 21012904192-05 | H19: о | I19: 4612728050128 | J19: 4658790008582 | K19: 906-521-01 | L19: БА01-2904192-05 Палец шаровой передней подвески верхний с чехлом защитным (усиленный) в сборе с крепежом | M19: 526.64 | N19: 526.64 | O19: =N19/M19-1 -> 0 | P19: 20 | R19: =N19*Q19 -> 0 | S19: 0.59 | T19: 0.56 | U19: =Q19*S19 -> 0 | V19: =Q19*T19 -> 0 | W19: =IF(H19="о",IF(Q19>0,1,0),IF(H19="з",IF(Q19>0,1,0),0)) -> 0 | X19: =IFERROR(VLOOKUP(B19,Лист2!A:B,2,0),0) -> 1 | Y19: =N19-X19 -> 525.64 | AB19: =ROUND(N19,0) -> 527 | AC19: =N19-AB19 -> -0.36
A20: =_xlfn.AGGREGATE(3,3,$B$6:B20) -> 15 | B20: ТЛТ00007978 | C20: ЕАЭС RU С-RU.АИ24.В.01164/25 | D20: https://pub.fsa.gov.ru/rss/certificate/view/3575513/baseInfo | E20: 47243 | F20: БА214-2904082-01 | G20: 212142904082-01 | H20: о | I20: 4630017720644 | J20: 4658790009039 | K20: 906-559 | L20: БА214-2904082-01 Палец шаровой передней подвески нижний с защитным чехлом ВАЗ 21214 | M20: 502.24 | N20: 502.24 | O20: =N20/M20-1 -> 0 | P20: 20 | R20: =N20*Q20 -> 0 | S20: 0.58 | T20: 0.55 | U20: =Q20*S20 -> 0 | V20: =Q20*T20 -> 0 | W20: =IF(H20="о",IF(Q20>0,1,0),IF(H20="з",IF(Q20>0,1,0),0)) -> 0 | X20: =IFERROR(VLOOKUP(B20,Лист2!A:B,2,0),0) -> 1 | Y20: =N20-X20 -> 501.24 | AB20: =ROUND(N20,0) -> 502 | AC20: =N20-AB20 -> 0.24
A21: =_xlfn.AGGREGATE(3,3,$B$6:B21) -> 16 | B21: ТЛТ00007977 | C21: ЕАЭС RU С-RU.АИ24.В.01164/25 | D21: https://pub.fsa.gov.ru/rss/certificate/view/3575513/baseInfo | E21: 47243 | F21: БА214-2904082-01 | G21: 212142904082-01 | H21: о | I21: 4630017720668 | J21: 4658790009046 | K21: 906-559-01 | L21: БА214-2904082-01 Палец шаровой передней подвески нижний с защитным чехлом с крепежом ВАЗ 21214 | M21: 551.04 | N21: 551.04 | O21: =N21/M21-1 -> 0 | P21: 20 | R21: =N21*Q21 -> 0 | S21: 0.7 | T21: 0.67 | U21: =Q21*S21 -> 0 | V21: =Q21*T21 -> 0 | W21: =IF(H21="о",IF(Q21>0,1,0),IF(H21="з",IF(Q21>0,1,0),0)) -> 0 | X21: =IFERROR(VLOOKUP(B21,Лист2!A:B,2,0),0) -> 1 | Y21: =N21-X21 -> 550.04 | AB21: =ROUND(N21,0) -> 551 | AC21: =N21-AB21 -> 0.04
A22: =_xlfn.AGGREGATE(3,3,$B$6:B22) -> 17 | B22: ТЛТ00007979 | C22: ЕАЭС RU С-RU.АИ24.В.01164/25 | D22: https://pub.fsa.gov.ru/rss/certificate/view/3575513/baseInfo | E22: 47243 | F22: БА214-2904192-05 | G22: 212142904192-05 | H22: о | I22: 4630017720637 | J22: 4658790009053 | K22: 906-560 | L22: БА214-2904192-05 Палец шаровой передней подвески верхний с защитным чехлом ВАЗ 21214 | M22: 481.9 | N22: 481.9 | O22: =N22/M22-1 -> 0 | P22: 20 | R22: =N22*Q22 -> 0 | S22: 0.49 | T22: 0.46 | U22: =Q22*S22 -> 0 | V22: =Q22*T22 -> 0 | W22: =IF(H22="о",IF(Q22>0,1,0),IF(H22="з",IF(Q22>0,1,0),0)) -> 0 | X22: =IFERROR(VLOOKUP(B22,Лист2!A:B,2,0),0) -> 1 | Y22: =N22-X22 -> 480.9 | AB22: =ROUND(N22,0) -> 482 | AC22: =N22-AB22 -> -0.1
A23: =_xlfn.AGGREGATE(3,3,$B$6:B23) -> 18 | B23: ТЛТ00007981 | C23: ЕАЭС RU С-RU.АИ24.В.01164/25 | D23: https://pub.fsa.gov.ru/rss/certificate/view/3575513/baseInfo | E23: 47243 | F23: БА214-2904192-05 | G23: 212142904192-05 | H23: о | I23: 4630017720651 | J23: 4658790009060 | K23: 906-560-01 | L23: БА214-2904192-05 Палец шаровой передней подвески верхний с защитным чехлом с крепежом ВАЗ 21214 | M23: 532.74 | N23: 532.74 | O23: =N23/M23-1 -> 0 | P23: 20 | R23: =N23*Q23 -> 0 | S23: 0.61 | T23: 0.58 | U23: =Q23*S23 -> 0 | V23: =Q23*T23 -> 0 | W23: =IF(H23="о",IF(Q23>0,1,0),IF(H23="з",IF(Q23>0,1,0),0)) -> 0 | X23: =IFERROR(VLOOKUP(B23,Лист2!A:B,2,0),0) -> 1 | Y23: =N23-X23 -> 531.74 | AB23: =ROUND(N23,0) -> 533 | AC23: =N23-AB23 -> -0.26
A24: =_xlfn.AGGREGATE(3,3,$B$6:B24) -> 19 | B24: ТЛТ00003729 | C24: ЕАЭС RU С-RU.АИ24.В.00794/23 | D24: https://pub.fsa.gov.ru/rss/certificate/view/3291031/baseInfo | E24: 46598 | F24: 2123-2904192 | G24: 21232904192 | H24: о | I24: 4612728050135 | J24: 4658790008704 | K24: 906-527 | L24: 2123-2904192 Палец шаровой передней подвески с защитным чехлом в сборе | M24: 475.8 | N24: 475.8 | O24: =N24/M24-1 -> 0 | P24: 20 | R24: =N24*Q24 -> 0 | S24: 0.51 | T24: 0.48 | U24: =Q24*S24 -> 0 | V24: =Q24*T24 -> 0 | W24: =IF(H24="о",IF(Q24>0,1,0),IF(H24="з",IF(Q24>0,1,0),0)) -> 0 | X24: =IFERROR(VLOOKUP(B24,Лист2!A:B,2,0),0) -> 1 | Y24: =N24-X24 -> 474.8 | AB24: =ROUND(N24,0) -> 476 | AC24: =N24-AB24 -> -0.2
A25: =_xlfn.AGGREGATE(3,3,$B$6:B25) -> 20 | B25: ТЛТ00003733 | C25: ЕАЭС RU С-RU.АИ24.В.00794/23 | D25: https://pub.fsa.gov.ru/rss/certificate/view/3291031/baseInfo | E25: 46598 | F25: 2123-2904192 с кр | G25: 21232904192 | H25: о | I25: 4612728050142 | J25: 4658790008711 | K25: 906-527-01 | L25: 2123-2904192 Палец шаровой передней подвески с защитным чехлом в сборе с крепежом | M25: 520.54 | N25: 520.54 | O25: =N25/M25-1 -> 0 | P25: 20 | R25: =N25*Q25 -> 0 | S25: 0.63 | T25: 0.6 | U25: =Q25*S25 -> 0 | V25: =Q25*T25 -> 0 | W25: =IF(H25="о",IF(Q25>0,1,0),IF(H25="з",IF(Q25>0,1,0),0)) -> 0 | X25: =IFERROR(VLOOKUP(B25,Лист2!A:B,2,0),0) -> 1 | Y25: =N25-X25 -> 519.54 | AB25: =ROUND(N25,0) -> 521 | AC25: =N25-AB25 -> -0.46
A26: =_xlfn.AGGREGATE(3,3,$B$6:B26) -> 21 | B26: ТЛТ00014379 | C26: ЕАЭС RU С-RU.АИ24.В.00813/23 | D26: https://pub.fsa.gov.ru/rss/certificate/view/3306437/baseInfo | E26: 46628 | F26: 8450006741 | G26: 8450006742 | H26: о | I26: 4630017890101 | J26: 4658790009541 | K26: 906-628 | L26: 906-628 Шаровая опора левая Lada Vesta 8450006742 | M26: 610 | N26: 610 | O26: =N26/M26-1 -> 0 | P26: 20 | R26: =N26*Q26 -> 0 | S26: 0.5 | T26: 0.45 | U26: =Q26*S26 -> 0 | V26: =Q26*T26 -> 0 | W26: =IF(H26="о",IF(Q26>0,1,0),IF(H26="з",IF(Q26>0,1,0),0)) -> 0 | X26: =IFERROR(VLOOKUP(B26,Лист2!A:B,2,0),0) -> 1 | Y26: =N26-X26 -> 609 | AB26: =ROUND(N26,0) -> 610 | AC26: =N26-AB26 -> 0
A27: =_xlfn.AGGREGATE(3,3,$B$6:B27) -> 22 | B27: ТЛТ00014378 | C27: ЕАЭС RU С-RU.АИ24.В.00813/23 | D27: https://pub.fsa.gov.ru/rss/certificate/view/3306437/baseInfo | E27: 46628 | F27: 8450006742 | G27: 8450006741 | H27: о | I27: 4630017890095 | J27: 4658790009558 | K27: 906-629 | L27: 906-629 Шаровая опора правая Lada Vesta 8450006741 | M27: 610 | N27: 610 | O27: =N27/M27-1 -> 0 | P27: 20 | R27: =N27*Q27 -> 0 | S27: 0.5 | T27: 0.45 | U27: =Q27*S27 -> 0 | V27: =Q27*T27 -> 0 | W27: =IF(H27="о",IF(Q27>0,1,0),IF(H27="з",IF(Q27>0,1,0),0)) -> 0 | X27: =IFERROR(VLOOKUP(B27,Лист2!A:B,2,0),0) -> 1 | Y27: =N27-X27 -> 609 | AB27: =ROUND(N27,0) -> 610 | AC27: =N27-AB27 -> 0
A28: =_xlfn.AGGREGATE(3,3,$B$6:B28) -> 23 | B28: ТЛТ00016153 | C28: ЕАЭС RU С-RU.АИ24.В.00813/23 | D28: https://pub.fsa.gov.ru/rss/certificate/view/3306437/baseInfo | E28: 46628 | F28: 906-697 | G28: 8450006742/8450006741 | H28: о | I28: 4630017927234 | J28: 4658790009985 | K28: 906-697 | L28: 906-697 Комплект шаровых опор "БЗАК-ПРОФИ" с крепежом LADA VESTA | M28: 1095.96 | N28: 1095.96 | O28: =N28/M28-1 -> 0 | P28: 20 | R28: =N28*Q28 -> 0 | S28: 1.1 | T28: 0.9 | U28: =Q28*S28 -> 0 | V28: =Q28*T28 -> 0 | W28: =IF(H28="о",IF(Q28>0,1,0),IF(H28="з",IF(Q28>0,1,0),0)) -> 0 | X28: =IFERROR(VLOOKUP(B28,Лист2!A:B,2,0),0) -> 1 | Y28: =N28-X28 -> 1094.96 | AB28: =ROUND(N28,0) -> 1096 | AC28: =N28-AB28 -> -0.04
A29: =_xlfn.AGGREGATE(3,3,$B$6:B29) -> 24 | B29: ТЛТ00003797 | C29: ЕАЭС RU С-RU.АИ24.В.00794/23 ЕАЭС RU С-RU.АИ24.В.01042/24 | D29: https://pub.fsa.gov.ru/rss/certificate/view/3291031/baseInfo https://pub.fsa.gov.ru/rss/certificate/view/3500098/baseInfo | E29: 30.07.2027 23.09.2028 | F29: 2101-2904192-03/2904082 (профи) | G29: 21012904192-03/21012904082 | H29: о | I29: 1902008221007 | J29: 4658790008599 | K29: 906-522 | L29: БА01-2904192-03 / 2101-2904082 Комплект шаровых опор "БЗАК-ПРОФИ" с крепежом ВАЗ 2101 | M29: 1764.94 | N29: 1764.94 | O29: =N29/M29-1 -> 0 | P29: 5 | R29: =N29*Q29 -> 0 | S29: 2.47 | T29: 2.35 | U29: =Q29*S29 -> 0 | V29: =Q29*T29 -> 0 | W29: =IF(H29="о",IF(Q29>0,1,0),IF(H29="з",IF(Q29>0,1,0),0)) -> 0 | X29: =IFERROR(VLOOKUP(B29,Лист2!A:B,2,0),0) -> 1 | Y29: =N29-X29 -> 1763.94 | AB29: =ROUND(N29,0) -> 1765 | AC29: =N29-AB29 -> -0.06
A30: =_xlfn.AGGREGATE(3,3,$B$6:B30) -> 25 | B30: ТЛТ00003718 | C30: ЕАЭС RU С-RU.АИ24.В.00794/23 | D30: https://pub.fsa.gov.ru/rss/certificate/view/3291031/baseInfo | E30: 46598 | F30: 2101-2904192-05/2904082-05 (профи) | G30: 21012904192-05/21012904082-05 | H30: о | I30: 1902008221014 | J30: 4658790008605 | K30: 906-523 | L30: БА01-2904192-05 / БА01-2904082-05 Комплект шаровых опор "БЗАК-ПРОФИ" усиленные с крепежом ВАЗ 2101 | M30: 1963.19 | N30: 1963.19 | O30: =N30/M30-1 -> 0 | P30: 5 | R30: =N30*Q30 -> 0 | S30: 2.48 | T30: 2.36 | U30: =Q30*S30 -> 0 | V30: =Q30*T30 -> 0 | W30: =IF(H30="о",IF(Q30>0,1,0),IF(H30="з",IF(Q30>0,1,0),0)) -> 0 | X30: =IFERROR(VLOOKUP(B30,Лист2!A:B,2,0),0) -> 1 | Y30: =N30-X30 -> 1962.19 | AB30: =ROUND(N30,0) -> 1963 | AC30: =N30-AB30 -> 0.19
A31: =_xlfn.AGGREGATE(3,3,$B$6:B31) -> 26 | B31: ТЛТ00003796 | C31: ЕАЭС RU С-RU.АИ24.В.01042/24 | D31: https://pub.fsa.gov.ru/rss/certificate/view/3500098/baseInfo | E31: 47019 | F31: 2121-2904192-03 (профи) | G31: 21012904192-03 | H31: о | I31: 1902008221021 | J31: 4658790008735 | K31: 906-528 | L31: БА01-2904192-03 Комплект шаровых опор "БЗАК-ПРОФИ Нива" с крепежом ВАЗ 2121 | M31: 1650.05 | N31: 1650.05 | O31: =N31/M31-1 -> 0 | P31: 5 | R31: =N31*Q31 -> 0 | S31: 2.32 | T31: 2.2 | U31: =Q31*S31 -> 0 | V31: =Q31*T31 -> 0 | W31: =IF(H31="о",IF(Q31>0,1,0),IF(H31="з",IF(Q31>0,1,0),0)) -> 0 | X31: =IFERROR(VLOOKUP(B31,Лист2!A:B,2,0),0) -> 1 | Y31: =N31-X31 -> 1649.05 | AB31: =ROUND(N31,0) -> 1650 | AC31: =N31-AB31 -> 0.05
A32: =_xlfn.AGGREGATE(3,3,$B$6:B32) -> 27 | B32: ТЛТ00003719 | C32: ЕАЭС RU С-RU.АИ24.В.00794/23 | D32: https://pub.fsa.gov.ru/rss/certificate/view/3291031/baseInfo | E32: 46598 | F32: 2121-2904192-05 (профи) | G32: 21012904192-05 | H32: о | I32: 1902008221038 | J32: 4658790008742 | K32: 906-528-01 | L32: БА01-2904192-05 Комплект пальцев шаровых "БЗАК-ПРОФИ Нива" усиленные с крепежом ВАЗ 2121 | M32: 1960.14 | N32: 1960.14 | O32: =N32/M32-1 -> 0 | P32: 5 | R32: =N32*Q32 -> 0 | S32: 2.37 | T32: 2.25 | U32: =Q32*S32 -> 0 | V32: =Q32*T32 -> 0 | W32: =IF(H32="о",IF(Q32>0,1,0),IF(H32="з",IF(Q32>0,1,0),0)) -> 0 | X32: =IFERROR(VLOOKUP(B32,Лист2!A:B,2,0),0) -> 1 | Y32: =N32-X32 -> 1959.14 | AB32: =ROUND(N32,0) -> 1960 | AC32: =N32-AB32 -> 0.14
A33: =_xlfn.AGGREGATE(3,3,$B$6:B33) -> 28 | B33: ТЛТ00003807 | C33: ЕАЭС RU С-RU.АИ24.В.01042/24 | D33: https://pub.fsa.gov.ru/rss/certificate/view/3500098/baseInfo | E33: 47019 | F33: 2108-2904192-01 (профи) | G33: 21082904192-01 | H33: о | I33: 1902008221045 | J33: 4658790008636 | K33: 906-524-02 | L33: БА08-2904192-01 Комплект шаровых опор "БЗАК-ПРОФИ" с крепежом ВАЗ 2108-2109 | M33: 785.89 | N33: 785.89 | O33: =N33/M33-1 -> 0 | P33: 20 | R33: =N33*Q33 -> 0 | S33: 0.88 | T33: 0.82 | U33: =Q33*S33 -> 0 | V33: =Q33*T33 -> 0 | W33: =IF(H33="о",IF(Q33>0,1,0),IF(H33="з",IF(Q33>0,1,0),0)) -> 0 | X33: =IFERROR(VLOOKUP(B33,Лист2!A:B,2,0),0) -> 1 | Y33: =N33-X33 -> 784.89 | AB33: =ROUND(N33,0) -> 786 | AC33: =N33-AB33 -> -0.11
A34: =_xlfn.AGGREGATE(3,3,$B$6:B34) -> 29 | B34: ТЛТ00003756 | C34: ЕАЭС RU С-RU.АИ24.В.00794/23 | D34: https://pub.fsa.gov.ru/rss/certificate/view/3291031/baseInfo | E34: 46598 | F34: 2110-2904192 (профи) | G34: 21102904192 | H34: о | I34: 1902008221052 | J34: 4658790008667 | K34: 906-525-02 | L34: БА10-2904192 Комплект шаровых опор "БЗАК-ПРОФИ" с крепежом ВАЗ 2110-1118 | M34: 894.66 | N34: 894.66 | O34: =N34/M34-1 -> 0 | P34: 20 | R34: =N34*Q34 -> 0 | S34: 0.94 | T34: 0.88 | U34: =Q34*S34 -> 0 | V34: =Q34*T34 -> 0 | W34: =IF(H34="о",IF(Q34>0,1,0),IF(H34="з",IF(Q34>0,1,0),0)) -> 0 | X34: =IFERROR(VLOOKUP(B34,Лист2!A:B,2,0),0) -> 1 | Y34: =N34-X34 -> 893.66 | AB34: =ROUND(N34,0) -> 895 | AC34: =N34-AB34 -> -0.34
A35: =_xlfn.AGGREGATE(3,3,$B$6:B35) -> 30 | B35: ТЛТ00003765 | C35: ЕАЭС RU С-RU.АИ24.В.01042/24 | D35: https://pub.fsa.gov.ru/rss/certificate/view/3500098/baseInfo | E35: 47019 | F35: 1118-2904192-01 (профи) | G35: 11182904192-01 | H35: о | I35: 1902008221977 | J35: 4658790008698 | K35: 906-526-02 | L35: БА18-2904192-01 Комплект шаровых опор "БЗАК-ПРОФИ" с крепежом ВАЗ 1118, 2190 | M35: 962.79 | N35: 962.79 | O35: =N35/M35-1 -> 0 | P35: 20 | R35: =N35*Q35 -> 0 | S35: 0.94 | T35: 0.88 | U35: =Q35*S35 -> 0 | V35: =Q35*T35 -> 0 | W35: =IF(H35="о",IF(Q35>0,1,0),IF(H35="з",IF(Q35>0,1,0),0)) -> 0 | X35: =IFERROR(VLOOKUP(B35,Лист2!A:B,2,0),0) -> 1 | Y35: =N35-X35 -> 961.79 | AB35: =ROUND(N35,0) -> 963 | AC35: =N35-AB35 -> -0.21
A36: =_xlfn.AGGREGATE(3,3,$B$6:B36) -> 31 | B36: ТЛТ00003737 | C36: ЕАЭС RU С-RU.АИ24.В.00794/23 | D36: https://pub.fsa.gov.ru/rss/certificate/view/3291031/baseInfo | E36: 46598 | F36: 2123 (профи) | G36: 21232904192 | H36: о | I36: 1902008221069 | J36: 4658790008728 | K36: 906-527-02 | L36: 2123-2904192 Комплект шаровых опор "БЗАК-ПРОФИ" с крепежом ВАЗ 2123 | M36: 2043.5 | N36: 2043.5 | O36: =N36/M36-1 -> 0 | P36: 5 | R36: =N36*Q36 -> 0 | S36: 2.51 | T36: 2.39 | U36: =Q36*S36 -> 0 | V36: =Q36*T36 -> 0 | W36: =IF(H36="о",IF(Q36>0,1,0),IF(H36="з",IF(Q36>0,1,0),0)) -> 0 | X36: =IFERROR(VLOOKUP(B36,Лист2!A:B,2,0),0) -> 1 | Y36: =N36-X36 -> 2042.5 | AB36: =ROUND(N36,0) -> 2044 | AC36: =N36-AB36 -> -0.5
A37: =_xlfn.AGGREGATE(3,3,$B$6:B37) -> 32 | B37: ТЛТ00015053 | C37: ЕАЭС RU С-RU.АИ24.В.01164/25 | D37: https://pub.fsa.gov.ru/rss/certificate/view/3575513/baseInfo | E37: 47243 | F37: 906-641-01 | G37: 212142904082-01/212142904192-05 | H37: о | I37: 4630017927289 | J37: 4658790009626 | K37: 906-641-01 | L37: 906-641-01 Комплект шаровых опор "БЗАК-ПРОФИ" с крепежом ВАЗ-21214 | M37: 2092.3 | N37: 2092.3 | O37: =N37/M37-1 -> 0 | P37: 5 | R37: =N37*Q37 -> 0 | S37: 2.62 | T37: 2.42 | U37: =Q37*S37 -> 0 | V37: =Q37*T37 -> 0 | W37: =IF(H37="о",IF(Q37>0,1,0),IF(H37="з",IF(Q37>0,1,0),0)) -> 0 | X37: =IFERROR(VLOOKUP(B37,Лист2!A:B,2,0),0) -> 1 | Y37: =N37-X37 -> 2091.3 | AB37: =ROUND(N37,0) -> 2092 | AC37: =N37-AB37 -> 0.3
A38: =_xlfn.AGGREGATE(3,3,$B$6:B38) -> 33 | B38: ТЛТ00003868 | C38: ЕАЭС RU С-RU.АИ24.В.00794/23 | D38: https://pub.fsa.gov.ru/rss/certificate/view/3291031/baseInfo | E38: 46598 | F38: 2101-3003050/64 | G38: 21013003058/21013003060 | H38: о | I38: 4612728050159 | J38: 4658790008810 | K38: 906-535-01 | L38: БА01-3003050/БА01-3003064 Комплект рулевых наконечников правый+левый крайней тяги рулевой трапеции с крепежом ВАЗ 2101-2107 | M38: 830.61 | N38: 830.61 | O38: =N38/M38-1 -> 0 | P38: 10 | R38: =N38*Q38 -> 0 | S38: 1.31 | T38: 1.26 | U38: =Q38*S38 -> 0 | V38: =Q38*T38 -> 0 | W38: =IF(H38="о",IF(Q38>0,1,0),IF(H38="з",IF(Q38>0,1,0),0)) -> 0 | X38: =IFERROR(VLOOKUP(B38,Лист2!A:B,2,0),0) -> 1 | Y38: =N38-X38 -> 829.61 | AB38: =ROUND(N38,0) -> 831 | AC38: =N38-AB38 -> -0.39
A39: =_xlfn.AGGREGATE(3,3,$B$6:B39) -> 34 | B39: ТЛТ00003957 | C39: ЕАЭС RU С-RU.АИ24.В.00794/23 | D39: https://pub.fsa.gov.ru/rss/certificate/view/3291031/baseInfo | E39: 46598 | F39: 2101-3003058/60 | G39: 21013003058/21013003060 | H39: о | I39: 1702008221195 | J39: 4658790008803 | K39: 906-535 | L39: БА01-3003058/БА01-3003060 Комплект наконечников правый+левый крайней тяги без крепежа ВАЗ 2101-2107 | M39: 810.29 | N39: 810.29 | O39: =N39/M39-1 -> 0 | P39: 10 | R39: =N39*Q39 -> 0 | S39: 1.3 | T39: 1.25 | U39: =Q39*S39 -> 0 | V39: =Q39*T39 -> 0 | W39: =IF(H39="о",IF(Q39>0,1,0),IF(H39="з",IF(Q39>0,1,0),0)) -> 0 | X39: =IFERROR(VLOOKUP(B39,Лист2!A:B,2,0),0) -> 1 | Y39: =N39-X39 -> 809.29 | AB39: =ROUND(N39,0) -> 810 | AC39: =N39-AB39 -> 0.29
A40: =_xlfn.AGGREGATE(3,3,$B$6:B40) -> 35 | B40: ТЛТ00003869 | C40: ЕАЭС RU С-RU.АИ24.В.00794/23 | D40: https://pub.fsa.gov.ru/rss/certificate/view/3291031/baseInfo | E40: 46598 | F40: 2101-3003057.01 | G40: 21013003056 | H40: о | I40: 4612728050166 | J40: 4658790008773 | K40: 906-532-01 | L40: БА01-3003057.01 Комплект рулевых наконечников крайней тяги рулевой трапеции наружных в сборе с крепежом ВАЗ 2101-2107 | M40: 741.15 | N40: 741.15 | O40: =N40/M40-1 -> 0 | P40: 20 | R40: =N40*Q40 -> 0 | S40: 0.88 | T40: 0.85 | U40: =Q40*S40 -> 0 | V40: =Q40*T40 -> 0 | W40: =IF(H40="о",IF(Q40>0,1,0),IF(H40="з",IF(Q40>0,1,0),0)) -> 0 | X40: =IFERROR(VLOOKUP(B40,Лист2!A:B,2,0),0) -> 1 | Y40: =N40-X40 -> 740.15 | AB40: =ROUND(N40,0) -> 741 | AC40: =N40-AB40 -> 0.15
...

Sheet Лист2
A1: ТЛТ00003768 | B1: 1
A2: ТЛТ00003785 | B2: 1
A3: ТЛТ00007633 | B3: 1
A4: ТЛТ00003794 | B4: 1
A5: ТЛТ00003795 | B5: 1
A6: ТЛТ00007634 | B6: 1
A7: ТЛТ00003804 | B7: 1
A8: ТЛТ00003806 | B8: 1
A9: ТЛТ00007638 | B9: 1
A10: ТЛТ00003754 | B10: 1
A11: ТЛТ00003755 | B11: 1
A12: ТЛТ00007636 | B12: 1
... A173: ТЛТ00018705 | B173: 1
B174: 1
A175: ТЛТ00012949 | B175: 1
A176: ТЛТ00012947 | B176: 1
A177: ТЛТ00012952 | B177: 1
A178: ТЛТ00024105 | B178: 1
A179: ТЛТ00024108 | B179: 1
A180: ТЛТ00003970 | B180: 1
A181: ТЛТ00003954 | B181: 1
A182: ТЛТ00003956 | B182: 1
A183: ТЛТ00004326 | B183: 1
B184: 1
A185: ТЛТ00004329 | B185: 1
A186: ТЛТ00005104 | B186: 1
A187: ТЛТ00004331 | B187: 1
A188: ТЛТ00005112 | B188: 1
A189: ТЛТ00004333 | B189: 1
A190: ТЛТ00004322 | B190: 1
A191: ТЛТ00004324 | B191: 1
A192: ТЛТ00013870 | B192: 1
A193: ТЛТ00012842 | B193: 1
A194: ТЛТ00012841 | B194: 1
A195: ТЛТ00012955 | B195: 1
A196: ТЛТ00012958 | B196: 1
B197: 1
A198: ТЛТ00012830 | B198: 1
A199: ТЛТ00004489 | B199: 1
A200: ТЛТ00004243 | B200: 1
...

Sheet Коды ТНВЭД
G1: БЛАНК ЗАКАЗА ТД АВТОКОМПОНЕНТЫ
A2: Покупатель:
A3: 1 | B3: 2 | C3: 5 | D3: 6 | F3: 7 | G3: 8
A4: № | B4: КОД | D4: Штрихкод одиночный | E4: Штрихкод грпповой | F4: Шифр БЗАК | G4: Наименование | H4: Код ТНВЭД
A6: =_xlfn.AGGREGATE(3,3,$B$6:B6) -> 1 | B6: ТЛТ00003768 | C6: о | D6: 4612728050012 | E6: 4658790008513 | F6: 906-518 | G6: 2101-2904082 Палец шаровой передней подвески нижний с чехлом защитным | H6: 8708809909
A7: =_xlfn.AGGREGATE(3,3,$B$6:B7) -> 2 | B7: ТЛТ00003785 | C7: о | D7: 4612728050029 | E7: 4658790008520 | F7: 906-518-01 | G7: 2101-2904082 Палец шаровой передней подвески нижний с чехлом защитным с крепежом | H7: 8708809909
A8: =_xlfn.AGGREGATE(3,3,$B$6:B8) -> 3 | B8: ТЛТ00003794 | C8: о | D8: 4612728050036 | E8: 4658790008537 | F8: 906-519 | G8: БА01-2904192-03 Палец шаровой передней подвески верхний с чехлом защитным | H8: 8708809109
A9: =_xlfn.AGGREGATE(3,3,$B$6:B9) -> 4 | B9: ТЛТ00003795 | C9: о | D9: 4612728050043 | E9: 4658790008544 | F9: 906-519-01 | G9: БА01-2904192-03 Палец шаровой передней подвески верхний с чехлом защитным с крепежом | H9: 8708809109
A10: =_xlfn.AGGREGATE(3,3,$B$6:B10) -> 5 | B10: ТЛТ00003804 | C10: о | D10: 4612728050050 | E10: 4658790008612 | F10: 906-524 | G10: БА08-2904192-01 Палец шаровой передней подвески с чехлом защитным ВАЗ 2108-2109 | H10: 8708809109
A11: =_xlfn.AGGREGATE(3,3,$B$6:B11) -> 6 | B11: ТЛТ00003806 | C11: о | D11: 4612728050067 | E11: 4658790008629 | F11: 906-524-01 | G11: БА08-2904192-01 Палец шаровой передней подвески с чехлом защитным с крепежом ВАЗ 2108-2109 | H11: 8708809109
A12: =_xlfn.AGGREGATE(3,3,$B$6:B12) -> 7 | B12: ТЛТ00003754 | C12: о | D12: 4612728050234 | E12: 4658790008643 | F12: 906-525 | G12: БА10-2904192 Палец шаровой передней подвески с чехлом защитным ВАЗ 2110-2112 | H12: 8708809909
A13: =_xlfn.AGGREGATE(3,3,$B$6:B13) -> 8 | B13: ТЛТ00003755 | C13: о | D13: 4612728050241 | E13: 4658790008650 | F13: 906-525-01 | G13: БА10-2904192 Палец шаровой передней подвески с чехлом защитным с крепежом ВАЗ 2110-2112 | H13: 8708809909
A14: =_xlfn.AGGREGATE(3,3,$B$6:B14) -> 9 | B14: ТЛТ00003763 | C14: о | D14: 1902008221984 | E14: 4658790008674 | F14: 906-526 | G14: БА18-2904192-01 Палец шаровой передней подвески с чехлом защитным ВАЗ 1118, 2190 | H14: 8708809109
A15: =_xlfn.AGGREGATE(3,3,$B$6:B15) -> 10 | B15: ТЛТ00003764 | C15: о | D15: 1802008221239 | E15: 4658790008681 | F15: 906-526-01 | G15: БА18-2904192-01 Палец шаровой передней подвески с чехлом защитным с крепежом ВАЗ 1118, 2190 | H15: 8708809109
A16: =_xlfn.AGGREGATE(3,3,$B$6:B16) -> 11 | B16: ТЛТ00003709 | C16: о | D16: 4612728050098 | E16: 4658790008551 | F16: 906-520 | G16: БА01-2904082-05 Палец шаровой передней подвески нижний с чехлом защитным (усиленный) в сборе | H16: 8708809909
A17: =_xlfn.AGGREGATE(3,3,$B$6:B17) -> 12 | B17: ТЛТ00003716 | C17: о | D17: 4612728050104 | E17: 4658790008568 | F17: 906-520-01 | G17: БА01-2904082-05 Палец шаровой передней подвески нижний с чехлом защитным (усиленный) в сборе с крепежом | H17: 8708809909
A18: =_xlfn.AGGREGATE(3,3,$B$6:B18) -> 13 | B18: ТЛТ00003715 | C18: о | D18: 4612728050111 | E18: 4658790008575 | F18: 906-521 | G18: БА01-2904192-05 Палец шаровой передней подвески верхний с чехлом защитным (усиленный) в сборе | H18: 8708809909
A19: =_xlfn.AGGREGATE(3,3,$B$6:B19) -> 14 | B19: ТЛТ00003720 | C19: о | D19: 4612728050128 | E19: 4658790008582 | F19: 906-521-01 | G19: БА01-2904192-05 Палец шаровой передней подвески верхний с чехлом защитным (усиленный) в сборе с крепежом | H19: 8708809909
A20: =_xlfn.AGGREGATE(3,3,$B$6:B20) -> 15 | B20: ТЛТ00007978 | C20: о | D20: 4630017720644 | E20: 4658790009039 | F20: 906-559 | G20: БА214-2904082-01 Палец шаровой передней подвески нижний с защитным чехлом ВАЗ 21214 | H20: 8708809909
A21: =_xlfn.AGGREGATE(3,3,$B$6:B21) -> 16 | B21: ТЛТ00007977 | C21: о | D21: 4630017720668 | E21: 4658790009046 | F21: 906-559-01 | G21: БА214-2904082-01 Палец шаровой передней подвески нижний с защитным чехлом с крепежом ВАЗ 21214 | H21: 8708809909
... A58: =_xlfn.AGGREGATE(3,3,$B$6:B58) -> 53 | B58: ТЛТ00014384 | C58: о | D58: 4630017890064 | E58: 4658790009589 | F58: 906-634 | G58: 906-634 Рулевая тяга Lada Vesta 8450006828 | H58: 8708949909
A59: =_xlfn.AGGREGATE(3,3,$B$6:B59) -> 54 | B59: ТЛТ00003890 | C59: о | D59: 4612728050210 | F59: 906-292-01 | G59: 906-292-01 Комплект тяг рулевой трапеции без скрутки ВАЗ 2101-2107 | H59: 8708949909
A60: =_xlfn.AGGREGATE(3,3,$B$6:B60) -> 55 | B60: ТЛТ00003892 | C60: о | D60: 4612728050227 | F60: 906-293-01 | G60: 906-293-01 Комплект тяг рулевой трапеции без скрутки ВАЗ 2121 | H60: 8708949909
A61: =_xlfn.AGGREGATE(3,3,$B$6:B61) -> 56 | B61: ТЛТ00003889 | C61: о | D61: 4612728050296 | F61: 906-292 | G61: 906-292 Комплект тяг рулевой трапеции со скрутой ВАЗ 2101-2107 | H61: 8708949909
A62: =_xlfn.AGGREGATE(3,3,$B$6:B62) -> 57 | B62: ТЛТ00003891 | C62: о | D62: 4612728050302 | F62: 906-293 | G62: 906-293 Комплект тяг рулевой трапеции со скруткой ВАЗ 2121 | H62: 8708949909
A63: =_xlfn.AGGREGATE(3,3,$B$6:B63) -> 58 | B63: ТЛТ00003893 | C63: о | D63: 1902008221182 | F63: 906-367 | G63: 906-367 Комплект тяг рулевой трапеции "Шевроле-Нива" | H63: 8708949909
A64: =_xlfn.AGGREGATE(3,3,$B$6:B64) -> 59 | B64: ТЛТ00003894 | C64: о | D64: 1902008221199 | F64: 906-368 | G64: 906-368 Комплект тяг рулевой трапеции "Шевроле-Нива" с полным комплектом крепежа | H64: 8708949909
A65: =_xlfn.AGGREGATE(3,3,$B$6:B65) -> 60 | B65: ТЛТ00014475 | C65: о | D65: 4630017927265 | F65: 906-639 | G65: 906-639 Комплект тяг рулевой трапеции без скрутки ВАЗ-21214 | H65: 8708949909
A66: =_xlfn.AGGREGATE(3,3,$B$6:B66) -> 61 | B66: ТЛТ00014474 | C66: о | D66: 4630017927272 | F66: 906-640 | G66: 906-640 Комплект тяг рулевой трапеции со скруткой ВАЗ-21214 | H66: 8708949909
A67: =_xlfn.AGGREGATE(3,3,$B$6:B67) -> 62 | B67: ТЛТ00003874 | C67: о | D67: 1802008221772 | E67: 4658790008957 | F67: 906-547 | G67: БА23-3414010 Тяга рулевой трапеции средняя в сборе ВАЗ 2123 | H67: 8708949909
A68: =_xlfn.AGGREGATE(3,3,$B$6:B68) -> 63 | B68: ТЛТ00003887 | C68: о | D68: 1902008221267 | E68: 4658790008988 | F68: 906-549 | G68: БА23-3414052 Тяга рулевой трапеции крайняя правая ВАЗ 2123 | H68: 8708949909
A69: =_xlfn.AGGREGATE(3,3,$B$6:B69) -> 64 | B69: ТЛТ00003888 | C69: о | D69: 1902008221250 | E69: 4658790008995 | F69: 906-550 | G69: БА23-3414053-10 Тяга рулевой трапеции крайняя левая ВАЗ 2123 | H69: 8708949909
A70: =_xlfn.AGGREGATE(3,3,$B$6:B70) -> 65 | B70: ТЛТ00014479 | C70: о | D70: 4630017927241 | E70: 4658790009596 | F70: 906-637 | G70: 906-637 Комплект рулевых внутренних наконечников в сборе без крепежа ВАЗ-2123 | H70: 8708949909
A71: =_xlfn.AGGREGATE(3,3,$B$6:B71) -> 66 | B71: ТЛТ00014480 | C71: о | D71: 4630017927258 | E71: 4658790009602 | F71: 906-638 | G71: 906-638 Комплект рулевых внутренних наконечников в сборе с крепежом ВАЗ-2123 | H71: 8708949909
A72: =_xlfn.AGGREGATE(3,3,$B$6:B72) -> 67 | B72: ТЛТ00004041 | C72: о | D72: 1702008221218 | E72: 4658790008759 | F72: 906-531 | G72: БА01-3003057 Наконечник крайней тяги рулевой трапеции наружный с гайкой в сборе | H72: 8708949909
A73: =_xlfn.AGGREGATE(3,3,$B$6:B73) -> 68 | B73: ТЛТ00003867 | C73: о | D73: 1702008221225 | E73: 4658790008780 | F73: 906-533 | G73: БА01-3003064 Наконечник рулевой внутренний левый с крепежом ВАЗ 2101-2107 | H73: 8708949909
A74: =_xlfn.AGGREGATE(3,3,$B$6:B74) -> 69 | B74: ТЛТ00003866 | C74: о | D74: 1702008221232 | E74: 4658790008797 | F74: 906-534 | G74: БА01-3003050 Наконечник рулевой внутренний правый с крепежом ВАЗ 2101-2107 | H74: 8708949909
A75: =_xlfn.AGGREGATE(3,3,$B$6:B75) -> 70 | B75: ТЛТ00003885 | C75: о | D75: 1902008221113 | E75: 4658790008827 | F75: 906-536 | G75: 2101-3003052 Тяга рулевой трапеции правая ВАЗ 2101-2107 | H75: 8708949909
A76: =_xlfn.AGGREGATE(3,3,$B$6:B76) -> 71 | B76: ТЛТ00003886 | C76: о | D76: 1902008221106 | E76: 4658790008834 | F76: 906-537 | G76: 2101-3003059 Тяга рулевой трапеции левая ВАЗ 2101-2107 | H76: 8708949909
A77: =_xlfn.AGGREGATE(3,3,$B$6:B77) -> 72 | B77: ТЛТ00008086 | C77: о | D77: 4630017723409 | F77: 906-561 | G77: БА214-3103015 Ступица переднего колеса | H77: 8708709909
...

Sheet Прайс общ
A1: ТОРГОВЫЙ ДОМ "АВТОКОМПОНЕНТЫ"
C7: Действует | G7: ='Бланк заказа с НДС'!N4 -> Цена с 01.07.2026
A8: 1 | B8: 2 | C8: 2 | D8: 4 | E8: 5 | F8: 6 | G8: 3 | H8: 4 | I8: 5 | J8: 6 | K8: 7 | L8: 8 | M8: 9
A9: № | B9: КОД | C9: Шифр БЗАК (старый) | D9: ОЕМ номер | F9: штрихкод | G9: Шифр БЗАК | H9: Наименование | I9: Дистриб. Цена без НДС | J9: Дистриб. Цена с НДС | K9: Цена входа в опт Цена с НДС | L9: Цена входа в точку Цена с НДС | M9: Цена на полке Цена с НДС
A11: =_xlfn.AGGREGATE(3,3,$B$11:B11) -> 1 | B11: ='Бланк заказа с НДС'!B6 -> ТЛТ00003768 | C11: ='Бланк заказа с НДС'!F6 -> 2101-2904082 | D11: ='Бланк заказа с НДС'!G6 -> 21012904082 | E11: ='Бланк заказа с НДС'!H6 -> о | F11: ='Бланк заказа с НДС'!I6 -> 4612728050012 | G11: ='Бланк заказа с НДС'!K6 -> 906-518 | H11: ='Бланк заказа с НДС'!L6 -> 2101-2904082 Палец шаровой передней подвески нижний с чехлом защитным | I11: ='Бланк заказа с НДС'!N6/1.22 -> 357.5 | J11: ='Бланк заказа с НДС'!N6 -> 436.15 | K11: =J11*1.1 -> 479.765 | L11: =K11*1.1 -> 527.7415 | M11: =L11*1.35 -> 712.45102
A12: =_xlfn.AGGREGATE(3,3,$B$11:B12) -> 2 | B12: ='Бланк заказа с НДС'!B7 -> ТЛТ00003785 | C12: ='Бланк заказа с НДС'!F7 -> 2101-2904082 с кр | D12: ='Бланк заказа с НДС'!G7 -> 21012904082 | E12: ='Бланк заказа с НДС'!H7 -> о | F12: ='Бланк заказа с НДС'!I7 -> 4612728050029 | G12: ='Бланк заказа с НДС'!K7 -> 906-518-01 | H12: ='Бланк заказа с НДС'!L7 -> 2101-2904082 Палец шаровой передней подвески нижний с чехлом защитным с крепежом | I12: ='Бланк заказа с НДС'!N7/1.22 -> 413.32787 | J12: ='Бланк заказа с НДС'!N7 -> 504.26 | K12: =J12*1.1 -> 554.686 | L12: =K12*1.1 -> 610.1546 | M12: =L12*1.35 -> 823.70871
A13: =_xlfn.AGGREGATE(3,3,$B$11:B13) -> 3 | B13: ='Бланк заказа с НДС'!B8 -> ТЛТ00003794 | C13: ='Бланк заказа с НДС'!F8 -> 2101-2904192-03 | D13: ='Бланк заказа с НДС'!G8 -> 21012904192-03 | E13: ='Бланк заказа с НДС'!H8 -> о | F13: ='Бланк заказа с НДС'!I8 -> 4612728050036 | G13: ='Бланк заказа с НДС'!K8 -> 906-519 | H13: ='Бланк заказа с НДС'!L8 -> БА01-2904192-03 Палец шаровой передней подвески верхний с чехлом защитным | I13: ='Бланк заказа с НДС'!N8/1.22 -> 320 | J13: ='Бланк заказа с НДС'!N8 -> 390.4 | K13: =J13*1.1 -> 429.44 | L13: =K13*1.1 -> 472.384 | M13: =L13*1.35 -> 637.7184
A14: =_xlfn.AGGREGATE(3,3,$B$11:B14) -> 4 | B14: ='Бланк заказа с НДС'!B9 -> ТЛТ00003795 | C14: ='Бланк заказа с НДС'!F9 -> 2101-2904192-03 с кр | D14: ='Бланк заказа с НДС'!G9 -> 21012904192-03 | E14: ='Бланк заказа с НДС'!H9 -> о | F14: ='Бланк заказа с НДС'!I9 -> 4612728050043 | G14: ='Бланк заказа с НДС'!K9 -> 906-519-01 | H14: ='Бланк заказа с НДС'!L9 -> БА01-2904192-03 Палец шаровой передней подвески верхний с чехлом защитным с крепежом | I14: ='Бланк заказа с НДС'!N9/1.22 -> 370 | J14: ='Бланк заказа с НДС'!N9 -> 451.4 | K14: =J14*1.1 -> 496.54 | L14: =K14*1.1 -> 546.194 | M14: =L14*1.35 -> 737.3619
A15: =_xlfn.AGGREGATE(3,3,$B$11:B15) -> 5 | B15: ='Бланк заказа с НДС'!B10 -> ТЛТ00003804 | C15: ='Бланк заказа с НДС'!F10 -> 2108-2904192-01 | D15: ='Бланк заказа с НДС'!G10 -> 21082904192-01 | E15: ='Бланк заказа с НДС'!H10 -> о | F15: ='Бланк заказа с НДС'!I10 -> 4612728050050 | G15: ='Бланк заказа с НДС'!K10 -> 906-524 | H15: ='Бланк заказа с НДС'!L10 -> БА08-2904192-01 Палец шаровой передней подвески с чехлом защитным ВАЗ 2108-2109 | I15: ='Бланк заказа с НДС'!N10/1.22 -> 275 | J15: ='Бланк заказа с НДС'!N10 -> 335.5 | K15: =J15*1.1 -> 369.05 | L15: =K15*1.1 -> 405.955 | M15: =L15*1.35 -> 548.03925
A16: =_xlfn.AGGREGATE(3,3,$B$11:B16) -> 6 | B16: ='Бланк заказа с НДС'!B11 -> ТЛТ00003806 | C16: ='Бланк заказа с НДС'!F11 -> 2108-2904192-01 с кр | D16: ='Бланк заказа с НДС'!G11 -> 21082904192-01 | E16: ='Бланк заказа с НДС'!H11 -> о | F16: ='Бланк заказа с НДС'!I11 -> 4612728050067 | G16: ='Бланк заказа с НДС'!K11 -> 906-524-01 | H16: ='Бланк заказа с НДС'!L11 -> БА08-2904192-01 Палец шаровой передней подвески с чехлом защитным с крепежом ВАЗ 2108-2109 | I16: ='Бланк заказа с НДС'!N11/1.22 -> 301.67213 | J16: ='Бланк заказа с НДС'!N11 -> 368.04 | K16: =J16*1.1 -> 404.844 | L16: =K16*1.1 -> 445.3284 | M16: =L16*1.35 -> 601.19334
A17: =_xlfn.AGGREGATE(3,3,$B$11:B17) -> 7 | B17: ='Бланк заказа с НДС'!B12 -> ТЛТ00003754 | C17: ='Бланк заказа с НДС'!F12 -> 2110-2904192 | D17: ='Бланк заказа с НДС'!G12 -> 21102904192 | E17: ='Бланк заказа с НДС'!H12 -> о | F17: ='Бланк заказа с НДС'!I12 -> 4612728050234 | G17: ='Бланк заказа с НДС'!K12 -> 906-525 | H17: ='Бланк заказа с НДС'!L12 -> БА10-2904192 Палец шаровой передней подвески с чехлом защитным ВАЗ 2110-2112 | I17: ='Бланк заказа с НДС'!N12/1.22 -> 346.67213 | J17: ='Бланк заказа с НДС'!N12 -> 422.94 | K17: =J17*1.1 -> 465.234 | L17: =K17*1.1 -> 511.7574 | M17: =L17*1.35 -> 690.87249
A18: =_xlfn.AGGREGATE(3,3,$B$11:B18) -> 8 | B18: ='Бланк заказа с НДС'!B13 -> ТЛТ00003755 | C18: ='Бланк заказа с НДС'!F13 -> 2110-2904192 с кр | D18: ='Бланк заказа с НДС'!G13 -> 21102904192 | E18: ='Бланк заказа с НДС'!H13 -> о | F18: ='Бланк заказа с НДС'!I13 -> 4612728050241 | G18: ='Бланк заказа с НДС'!K13 -> 906-525-01 | H18: ='Бланк заказа с НДС'!L13 -> БА10-2904192 Палец шаровой передней подвески с чехлом защитным с крепежом ВАЗ 2110-2112 | I18: ='Бланк заказа с НДС'!N13/1.22 -> 371.67213 | J18: ='Бланк заказа с НДС'!N13 -> 453.44 | K18: =J18*1.1 -> 498.784 | L18: =K18*1.1 -> 548.6624 | M18: =L18*1.35 -> 740.69424
A19: =_xlfn.AGGREGATE(3,3,$B$11:B19) -> 9 | B19: ='Бланк заказа с НДС'!B14 -> ТЛТ00003763 | C19: ='Бланк заказа с НДС'!F14 -> 1118-2904192-01 | D19: ='Бланк заказа с НДС'!G14 -> 11182904192-01 | E19: ='Бланк заказа с НДС'!H14 -> о | F19: ='Бланк заказа с НДС'!I14 -> 1902008221984 | G19: ='Бланк заказа с НДС'!K14 -> 906-526 | H19: ='Бланк заказа с НДС'!L14 -> БА18-2904192-01 Палец шаровой передней подвески с чехлом защитным ВАЗ 1118, 2190 | I19: ='Бланк заказа с НДС'!N14/1.22 -> 362.5 | J19: ='Бланк заказа с НДС'!N14 -> 442.25 | K19: =J19*1.1 -> 486.475 | L19: =K19*1.1 -> 535.1225 | M19: =L19*1.35 -> 722.41538
A20: =_xlfn.AGGREGATE(3,3,$B$11:B20) -> 10 | B20: ='Бланк заказа с НДС'!B15 -> ТЛТ00003764 | C20: ='Бланк заказа с НДС'!F15 -> 1118-2904192-01 с кр | D20: ='Бланк заказа с НДС'!G15 -> 11182904192-01 | E20: ='Бланк заказа с НДС'!H15 -> о | F20: ='Бланк заказа с НДС'!I15 -> 1802008221239 | G20: ='Бланк заказа с НДС'!K15 -> 906-526-01 | H20: ='Бланк заказа с НДС'!L15 -> БА18-2904192-01 Палец шаровой передней подвески с чехлом защитным с крепежом ВАЗ 1118, 2190 | I20: ='Бланк заказа с НДС'!N15/1.22 -> 407.5 | J20: ='Бланк заказа с НДС'!N15 -> 497.15 | K20: =J20*1.1 -> 546.865 | L20: =K20*1.1 -> 601.5515 | M20: =L20*1.35 -> 812.09453
A21: =_xlfn.AGGREGATE(3,3,$B$11:B21) -> 11 | B21: ='Бланк заказа с НДС'!B16 -> ТЛТ00003709 | C21: ='Бланк заказа с НДС'!F16 -> 2101-2904082-05 | D21: ='Бланк заказа с НДС'!G16 -> 21012904082-05 | E21: ='Бланк заказа с НДС'!H16 -> о | F21: ='Бланк заказа с НДС'!I16 -> 4612728050098 | G21: ='Бланк заказа с НДС'!K16 -> 906-520 | H21: ='Бланк заказа с НДС'!L16 -> БА01-2904082-05 Палец шаровой передней подвески нижний с чехлом защитным (усиленный) в сборе | I21: ='Бланк заказа с НДС'!N16/1.22 -> 389.17213 | J21: ='Бланк заказа с НДС'!N16 -> 474.79 | K21: =J21*1.1 -> 522.269 | L21: =K21*1.1 -> 574.4959 | M21: =L21*1.35 -> 775.56947
A22: =_xlfn.AGGREGATE(3,3,$B$11:B22) -> 12 | B22: ='Бланк заказа с НДС'!B17 -> ТЛТ00003716 | C22: ='Бланк заказа с НДС'!F17 -> 2101-2904082-05 с кр | D22: ='Бланк заказа с НДС'!G17 -> 21012904082-05 | E22: ='Бланк заказа с НДС'!H17 -> о | F22: ='Бланк заказа с НДС'!I17 -> 4612728050104 | G22: ='Бланк заказа с НДС'!K17 -> 906-520-01 | H22: ='Бланк заказа с НДС'!L17 -> БА01-2904082-05 Палец шаровой передней подвески нижний с чехлом защитным (усиленный) в сборе с крепежом | I22: ='Бланк заказа с НДС'!N17/1.22 -> 431.67213 | J22: ='Бланк заказа с НДС'!N17 -> 526.64 | K22: =J22*1.1 -> 579.304 | L22: =K22*1.1 -> 637.2344 | M22: =L22*1.35 -> 860.26644
... A161: =_xlfn.AGGREGATE(3,3,$B$11:B161) -> 151 | B161: ='Бланк заказа с НДС'!B156 -> ТЛТ00018705 | C161: ='Бланк заказа с НДС'!F156 -> 906-729 | D161: ='Бланк заказа с НДС'!G156 -> 51720H5000 | E161: ='Бланк заказа с НДС'!H156 -> и | F161: ='Бланк заказа с НДС'!I156 -> 4650017901386 | G161: ='Бланк заказа с НДС'!K156 -> 906-729 | H161: ='Бланк заказа с НДС'!L156 -> 906-729 Подшипник передней ступицы Kiа Rio IV 51720H5000 | I161: ='Бланк заказа с НДС'!N156/1.22 -> 740 | J161: ='Бланк заказа с НДС'!N156 -> 902.8 | K161: =J161*1.1 -> 993.08 | L161: =K161*1.1 -> 1092.388 | M161: =L161*1.35 -> 1474.7238
A162: =_xlfn.AGGREGATE(3,3,$B$11:B162) -> 151 | C162: ='Бланк заказа с НДС'!F157 -> УАЗ | D162: ='Бланк заказа с НДС'!G157 -> 0 | E162: ='Бланк заказа с НДС'!H157 -> 0 | F162: ='Бланк заказа с НДС'!I157 -> 0 | G162: ='Бланк заказа с НДС'!K157 -> 0 | H162: ='Бланк заказа с НДС'!L157 -> 0 | I162: ='Бланк заказа с НДС'!N157/1.22 -> 0 | J162: ='Бланк заказа с НДС'!N157 -> 0 | K162: =J162*1.1 -> 0 | L162: =K162*1.1 -> 0 | M162: =L162*1.35 -> 0
A163: =_xlfn.AGGREGATE(3,3,$B$11:B163) -> 152 | B163: ='Бланк заказа с НДС'!B158 -> ТЛТ00012949 | C163: ='Бланк заказа с НДС'!F158 -> 906-581 | D163: ='Бланк заказа с НДС'!G158 -> 2360213001013 | E163: ='Бланк заказа с НДС'!H158 -> о | F163: ='Бланк заказа с НДС'!I158 -> 4630017780594 | G163: ='Бланк заказа с НДС'!K158 -> 906-581 | H163: ='Бланк заказа с НДС'!L158 -> 906-581 Шкворень нижний 236021-3001013 | I163: ='Бланк заказа с НДС'!N158/1.22 -> 540 | J163: ='Бланк заказа с НДС'!N158 -> 658.8 | K163: =J163*1.1 -> 724.68 | L163: =K163*1.1 -> 797.148 | M163: =L163*1.35 -> 1076.1498
A164: =_xlfn.AGGREGATE(3,3,$B$11:B164) -> 153 | B164: ='Бланк заказа с НДС'!B159 -> ТЛТ00012947 | C164: ='Бланк заказа с НДС'!F159 -> 906-582 | D164: ='Бланк заказа с НДС'!G159 -> 2360213001014 | E164: ='Бланк заказа с НДС'!H159 -> о | F164: ='Бланк заказа с НДС'!I159 -> 4630017780600 | G164: ='Бланк заказа с НДС'!K159 -> 906-582 | H164: ='Бланк заказа с НДС'!L159 -> 906-582 Шкворень верхний 236021-3001014 | I164: ='Бланк заказа с НДС'!N159/1.22 -> 637.5 | J164: ='Бланк заказа с НДС'!N159 -> 777.75 | K164: =J164*1.1 -> 855.525 | L164: =K164*1.1 -> 941.0775 | M164: =L164*1.35 -> 1270.4546
A165: =_xlfn.AGGREGATE(3,3,$B$11:B165) -> 154 | B165: ='Бланк заказа с НДС'!B160 -> ТЛТ00012952 | C165: ='Бланк заказа с НДС'!F160 -> 906-588 | D165: ='Бланк заказа с НДС'!G160 -> 2360213001013/2360213001014 | E165: ='Бланк заказа с НДС'!H160 -> о | F165: ='Бланк заказа с НДС'!I160 -> 4630017780617 | G165: ='Бланк заказа с НДС'!K160 -> 906-588 | H165: ='Бланк заказа с НДС'!L160 -> 906-588 Комплект шкворней 236021-3001013/14 | I165: ='Бланк заказа с НДС'!N160/1.22 -> 2290.8279 | J165: ='Бланк заказа с НДС'!N160 -> 2794.81 | K165: =J165*1.1 -> 3074.291 | L165: =K165*1.1 -> 3381.7201 | M165: =L165*1.35 -> 4565.3221
A166: =_xlfn.AGGREGATE(3,3,$B$11:B166) -> 155 | B166: ='Бланк заказа с НДС'!B161 -> ТЛТ00024105 | C166: ='Бланк заказа с НДС'!F161 -> 906-738 | D166: ='Бланк заказа с НДС'!G161 -> 316000-3501076-02 | E166: ='Бланк заказа с НДС'!H161 -> о | F166: ='Бланк заказа с НДС'!I161 -> 4658790033652 | G166: ='Бланк заказа с НДС'!K161 -> 906-738 | H166: ='Бланк заказа с НДС'!L161 -> 906-738 Диск переднего тормоза (ОЕМ 316000-3501076-02 ) | I166: ='Бланк заказа с НДС'!N161/1.22 -> 1485.6803 | J166: ='Бланк заказа с НДС'!N161 -> 1812.53 | K166: =J166*1.1 -> 1993.783 | L166: =K166*1.1 -> 2193.1613 | M166: =L166*1.35 -> 2960.7678
A167: =_xlfn.AGGREGATE(3,3,$B$11:B167) -> 156 | B167: ='Бланк заказа с НДС'!B162 -> ТЛТ00024108 | C167: ='Бланк заказа с НДС'!F162 -> 906-739 | D167: ='Бланк заказа с НДС'!G162 -> 236020-3501076-01 | E167: ='Бланк заказа с НДС'!H162 -> о | F167: ='Бланк заказа с НДС'!I162 -> 4658790033669 | G167: ='Бланк заказа с НДС'!K162 -> 906-739 | H167: ='Бланк заказа с НДС'!L162 -> 906-739 Диск переднего тормоза (ОЕМ 236020-3501076-01) | I167: ='Бланк заказа с НДС'!N162/1.22 -> 1489.2541 | J167: ='Бланк заказа с НДС'!N162 -> 1816.89 | K167: =J167*1.1 -> 1998.579 | L167: =K167*1.1 -> 2198.4369 | M167: =L167*1.35 -> 2967.8898
A168: =_xlfn.AGGREGATE(3,3,$B$11:B168) -> 157 | B168: ='Бланк заказа с НДС'!B163 -> ТЛТ00024024 | C168: ='Бланк заказа с НДС'!F163 -> 906-741 | D168: ='Бланк заказа с НДС'!G163 -> 236031310301000 | E168: ='Бланк заказа с НДС'!H163 -> о | F168: ='Бланк заказа с НДС'!I163 -> 4658790080816 | G168: ='Бланк заказа с НДС'!K163 -> 906-741 | H168: ='Бланк заказа с НДС'!L163 -> 906-741 Ступица передней оси с подшипником УАЗ Профи New (ОЕМ 236031-3103010-00) | I168: ='Бланк заказа с НДС'!N163/1.22 -> 6694.1885 | J168: ='Бланк заказа с НДС'!N163 -> 8166.91 | K168: =J168*1.1 -> 8983.601 | L168: =K168*1.1 -> 9881.9611 | M168: =L168*1.35 -> 13340.647
A169: =_xlfn.AGGREGATE(3,3,$B$11:B169) -> 158 | B169: ='Бланк заказа с НДС'!B164 -> ТЛТ00024025 | C169: ='Бланк заказа с НДС'!F164 -> 906-742 | D169: ='Бланк заказа с НДС'!G164 -> 236031310401000 | E169: ='Бланк заказа с НДС'!H164 -> о | F169: ='Бланк заказа с НДС'!I164 -> 4658790080809 | G169: ='Бланк заказа с НДС'!K164 -> 906-742 | H169: ='Бланк заказа с НДС'!L164 -> 906-742 Ступица задней оси с подшипником УАЗ Профи New (ОЕМ 236031-3104010-00) | I169: ='Бланк заказа с НДС'!N164/1.22 -> 10196.336 | J169: ='Бланк заказа с НДС'!N164 -> 12439.53 | K169: =J169*1.1 -> 13683.483 | L169: =K169*1.1 -> 15051.831 | M169: =L169*1.35 -> 20319.972
A170: =_xlfn.AGGREGATE(3,3,$B$11:B170) -> 159 | B170: ='Бланк заказа с НДС'!B165 -> ТЛТ00025209 | C170: ='Бланк заказа с НДС'!F165 -> 906-743 | D170: ='Бланк заказа с НДС'!G165 -> 236031-2902821-01 | E170: ='Бланк заказа с НДС'!H165 -> о | F170: ='Бланк заказа с НДС'!I165 -> 4658790080755 | G170: ='Бланк заказа с НДС'!K165 -> 906-743 | H170: ='Бланк заказа с НДС'!L165 -> 906-743 Опора верхняя амортизатора УАЗ Профи New (аналог 236031-2902821-01) | I170: ='Бланк заказа с НДС'!N165/1.22 -> 864.41803 | J170: ='Бланк заказа с НДС'!N165 -> 1054.59 | K170: =J170*1.1 -> 1160.049 | L170: =K170*1.1 -> 1276.0539 | M170: =L170*1.35 -> 1722.6728
A171: =_xlfn.AGGREGATE(3,3,$B$11:B171) -> 160 | B171: ='Бланк заказа с НДС'!B166 -> ТЛТ00025210 | C171: ='Бланк заказа с НДС'!F166 -> 906-744 | D171: ='Бланк заказа с НДС'!G166 -> 236031-2906020 | E171: ='Бланк заказа с НДС'!H166 -> о | F171: ='Бланк заказа с НДС'!I166 -> 4658790080724 | G171: ='Бланк заказа с НДС'!K166 -> 906-744 | H171: ='Бланк заказа с НДС'!L166 -> 906-744 Стойка стабилизатора передней подвески УАЗ Профи New (аналог 236031-2906020) | I171: ='Бланк заказа с НДС'!N166/1.22 -> 545.95082 | J171: ='Бланк заказа с НДС'!N166 -> 666.06 | K171: =J171*1.1 -> 732.666 | L171: =K171*1.1 -> 805.9326 | M171: =L171*1.35 -> 1088.009
A172: =_xlfn.AGGREGATE(3,3,$B$11:B172) -> 161 | B172: ='Бланк заказа с НДС'!B167 -> ТЛТ00025211 | C172: ='Бланк заказа с НДС'!F167 -> 906-745 | D172: ='Бланк заказа с НДС'!G167 -> 236031-2916020 | E172: ='Бланк заказа с НДС'!H167 -> о | F172: ='Бланк заказа с НДС'!I167 -> 4658790080731 | G172: ='Бланк заказа с НДС'!K167 -> 906-745 | H172: ='Бланк заказа с НДС'!L167 -> 906-745 Стойка стабилизатора задней подвески УАЗ Профи New аналог 236031-2916020 | I172: ='Бланк заказа с НДС'!N167/1.22 -> 581.96721 | J172: ='Бланк заказа с НДС'!N167 -> 710 | K172: =J172*1.1 -> 781 | L172: =K172*1.1 -> 859.1 | M172: =L172*1.35 -> 1159.785
A173: =_xlfn.AGGREGATE(3,3,$B$11:B173) -> 162 | B173: ='Бланк заказа с НДС'!B168 -> ТЛТ00025212 | C173: ='Бланк заказа с НДС'!F168 -> 906-746 | D173: ='Бланк заказа с НДС'!G168 -> 236031-3414056 | E173: ='Бланк заказа с НДС'!H168 -> о | F173: ='Бланк заказа с НДС'!I168 -> 4658790080748 | G173: ='Бланк заказа с НДС'!K168 -> 906-746 | H173: ='Бланк заказа с НДС'!L168 -> 906-746 Наконечник тяги рулевой трапеции в сборе УАЗ Профи New (аналог 236031-3414056) | I173: ='Бланк заказа с НДС'!N168/1.22 -> 530.2377 | J173: ='Бланк заказа с НДС'!N168 -> 646.89 | K173: =J173*1.1 -> 711.579 | L173: =K173*1.1 -> 782.7369 | M173: =L173*1.35 -> 1056.6948
A174: =_xlfn.AGGREGATE(3,3,$B$11:B174) -> 163 | B174: ='Бланк заказа с НДС'!B169 -> ТЛТ00025213 | C174: ='Бланк заказа с НДС'!F169 -> 906-747 | D174: ='Бланк заказа с НДС'!G169 -> 236031-3414235 | E174: ='Бланк заказа с НДС'!H169 -> о | F174: ='Бланк заказа с НДС'!I169 -> 4658790080717 | G174: ='Бланк заказа с НДС'!K169 -> 906-747 | H174: ='Бланк заказа с НДС'!L169 -> 906-747 Шарнир шаровой демпфера рулевого управления УАЗ Профи New (аналог 236031-3414235) | I174: ='Бланк заказа с НДС'!N169/1.22 -> 453.72131 | J174: ='Бланк заказа с НДС'!N169 -> 553.54 | K174: =J174*1.1 -> 608.894 | L174: =K174*1.1 -> 669.7834 | M174: =L174*1.35 -> 904.20759
... A181: =_xlfn.AGGREGATE(3,3,$B$11:B181) -> 170 | B181: ='Бланк заказа с НДС'!B176 -> ТЛТ00004326 | C181: ='Бланк заказа с НДС'!F176 -> 906-494 | D181: ='Бланк заказа с НДС'!G176 -> 4692201025 | E181: ='Бланк заказа с НДС'!H176 -> з | F181: ='Бланк заказа с НДС'!I176 -> 1702008221003 | G181: ='Бланк заказа с НДС'!K176 -> 906-494 | H181: ='Бланк заказа с НДС'!L176 -> 906-494 Крестовина карданного вала УАЗ 3151,3741,3962,3303 469-2201025 | I181: ='Бланк заказа с НДС'!N176/1.22 -> 424.17213 | J181: ='Бланк заказа с НДС'!N176 -> 517.49 | K181: =J181*1.1 -> 569.239 | L181: =K181*1.1 -> 626.1629 | M181: =L181*1.35 -> 845.31992
A182: =_xlfn.AGGREGATE(3,3,$B$11:B182) -> 170 | C182: ='Бланк заказа с НДС'!F177 -> ГАЗ | D182: ='Бланк заказа с НДС'!G177 -> 0 | E182: ='Бланк заказа с НДС'!H177 -> 0 | F182: ='Бланк заказа с НДС'!I177 -> 0 | G182: ='Бланк заказа с НДС'!K177 -> 0 | H182: ='Бланк заказа с НДС'!L177 -> 0 | I182: ='Бланк заказа с НДС'!N177/1.22 -> 0 | J182: ='Бланк заказа с НДС'!N177 -> 0 | K182: =J182*1.1 -> 0 | L182: =K182*1.1 -> 0 | M182: =L182*1.35 -> 0
A183: =_xlfn.AGGREGATE(3,3,$B$11:B183) -> 171 | B183: ='Бланк заказа с НДС'!B178 -> ТЛТ00004333 | C183: ='Бланк заказа с НДС'!F178 -> 2217-3414029-10 | D183: ='Бланк заказа с НДС'!G178 -> 2217341402910 | E183: ='Бланк заказа с НДС'!H178 -> з | F183: ='Бланк заказа с НДС'!I178 -> 4612728050289 | G183: ='Бланк заказа с НДС'!K178 -> 906-553 | H183: ='Бланк заказа с НДС'!L178 -> БА17-3414029 Шарнир рулевой трапеции в сборе с крепежом ГАЗ 2217-3414029 | I183: ='Бланк заказа с НДС'!N178/1.22 -> 1121.6721 | J183: ='Бланк заказа с НДС'!N178 -> 1368.44 | K183: =J183*1.1 -> 1505.284 | L183: =K183*1.1 -> 1655.8124 | M183: =L183*1.35 -> 2235.3467
A184: =_xlfn.AGGREGATE(3,3,$B$11:B184) -> 172 | B184: ='Бланк заказа с НДС'!B179 -> ТЛТ00013870 | C184: ='Бланк заказа с НДС'!F179 -> 906-403 | D184: ='Бланк заказа с НДС'!G179 -> 31022201025 | E184: ='Бланк заказа с НДС'!H179 -> з | F184: ='Бланк заказа с НДС'!I179 -> 1902008221960 | G184: ='Бланк заказа с НДС'!K179 -> 906-403 | H184: ='Бланк заказа с НДС'!L179 -> 906-403 Крестовина карданного вала ГАЗ 3102-2201025 | I184: ='Бланк заказа с НДС'!N179/1.22 -> 412.5 | J184: ='Бланк заказа с НДС'!N179 -> 503.25 | K184: =J184*1.1 -> 553.575 | L184: =K184*1.1 -> 608.9325 | M184: =L184*1.35 -> 822.05888
A185: =_xlfn.AGGREGATE(3,3,$B$11:B185) -> 173 | B185: ='Бланк заказа с НДС'!B180 -> ТЛТ00004322 | C185: ='Бланк заказа с НДС'!F180 -> 906-405 | D185: ='Бланк заказа с НДС'!G180 -> 2217-2904314 | E185: ='Бланк заказа с НДС'!H180 -> з | F185: ='Бланк заказа с НДС'!I180 -> 1802008221253 | G185: ='Бланк заказа с НДС'!K180 -> 906-405 | H185: ='Бланк заказа с НДС'!L180 -> 906-405 Шаровая опора нижняя усиленная ГАЗ 2217 2217-2904314 | I185: ='Бланк заказа с НДС'!N180/1.22 -> 790.82787 | J185: ='Бланк заказа с НДС'!N180 -> 964.81 | K185: =J185*1.1 -> 1061.291 | L185: =K185*1.1 -> 1167.4201 | M185: =L185*1.35 -> 1576.0171
A186: =_xlfn.AGGREGATE(3,3,$B$11:B186) -> 174 | B186: ='Бланк заказа с НДС'!B181 -> ТЛТ00004324 | C186: ='Бланк заказа с НДС'!F181 -> 906-406 | D186: ='Бланк заказа с НДС'!G181 -> 2217-2904414 | E186: ='Бланк заказа с НДС'!H181 -> з | F186: ='Бланк заказа с НДС'!I181 -> 1802008221246 | G186: ='Бланк заказа с НДС'!K181 -> 906-406 | H186: ='Бланк заказа с НДС'!L181 -> 906-406 Шаровая опора верхняя усиленная ГАЗ 2217 2217-2904414 | I186: ='Бланк заказа с НДС'!N181/1.22 -> 714.17213 | J186: ='Бланк заказа с НДС'!N181 -> 871.29 | K186: =J186*1.1 -> 958.419 | L186: =K186*1.1 -> 1054.2609 | M186: =L186*1.35 -> 1423.2522
A187: =_xlfn.AGGREGATE(3,3,$B$11:B187) -> 175 | B187: ='Бланк заказа с НДС'!B182 -> ТЛТ00012842 | C187: ='Бланк заказа с НДС'!F182 -> 906-623 | D187: ='Бланк заказа с НДС'!G182 -> A21R23-2904414 | E187: ='Бланк заказа с НДС'!H182 -> з | F187: ='Бланк заказа с НДС'!I182 -> 4630017784943 | G187: ='Бланк заказа с НДС'!K182 -> 906-623 | H187: ='Бланк заказа с НДС'!L182 -> 906-623 Шаровая опора верхняя ГАЗель NEXT A21R23-2904414 | I187: ='Бланк заказа с НДС'!N182/1.22 -> 715 | J187: ='Бланк заказа с НДС'!N182 -> 872.3 | K187: =J187*1.1 -> 959.53 | L187: =K187*1.1 -> 1055.483 | M187: =L187*1.35 -> 1424.902
A188: =_xlfn.AGGREGATE(3,3,$B$11:B188) -> 176 | B188: ='Бланк заказа с НДС'!B183 -> ТЛТ00012841 | C188: ='Бланк заказа с НДС'!F183 -> 906-622 | D188: ='Бланк заказа с НДС'!G183 -> A21R23-2904314 | E188: ='Бланк заказа с НДС'!H183 -> з | F188: ='Бланк заказа с НДС'!I183 -> 4630017784950 | G188: ='Бланк заказа с НДС'!K183 -> 906-622 | H188: ='Бланк заказа с НДС'!L183 -> 906-622 Шаровая опора нижняя ГАЗель NEXT A21R23-2904314 | I188: ='Бланк заказа с НДС'!N183/1.22 -> 743.32787 | J188: ='Бланк заказа с НДС'!N183 -> 906.86 | K188: =J188*1.1 -> 997.546 | L188: =K188*1.1 -> 1097.3006 | M188: =L188*1.35 -> 1481.3558
A189: =_xlfn.AGGREGATE(3,3,$B$11:B189) -> 177 | B189: ='Бланк заказа с НДС'!B184 -> ТЛТ00012955 | C189: ='Бланк заказа с НДС'!F184 -> 906-583 | D189: ='Бланк заказа с НДС'!G184 -> C40R133414029 | E189: ='Бланк заказа с НДС'!H184 -> о | F189: ='Бланк заказа с НДС'!I184 -> 4630017780624 | G189: ='Бланк заказа с НДС'!K184 -> 906-583 | H189: ='Бланк заказа с НДС'!L184 -> 906-583 Шарнир ГАЗ C40R13-3414029 | I189: ='Бланк заказа с НДС'!N184/1.22 -> 1128.3279 | J189: ='Бланк заказа с НДС'!N184 -> 1376.56 | K189: =J189*1.1 -> 1514.216 | L189: =K189*1.1 -> 1665.6376 | M189: =L189*1.35 -> 2248.6108
A190: =_xlfn.AGGREGATE(3,3,$B$11:B190) -> 178 | B190: ='Бланк заказа с НДС'!B185 -> ТЛТ00012958 | C190: ='Бланк заказа с НДС'!F185 -> 906-589 | D190: ='Бланк заказа с НДС'!G185 -> C40R133414029 | E190: ='Бланк заказа с НДС'!H185 -> о | F190: ='Бланк заказа с НДС'!I185 -> 4630017780631 | G190: ='Бланк заказа с НДС'!K185 -> 906-589 | H190: ='Бланк заказа с НДС'!L185 -> 906-589 Комплект Шарниров ГАЗ C40R13-3414029 | I190: ='Бланк заказа с НДС'!N185/1.22 -> 4337.5 | J190: ='Бланк заказа с НДС'!N185 -> 5291.75 | K190: =J190*1.1 -> 5820.925 | L190: =K190*1.1 -> 6403.0175 | M190: =L190*1.35 -> 8644.0736
...

Sheet Прайс осн
A1: ТОРГОВЫЙ ДОМ "АВТОКОМПОНЕНТЫ"
C7: Действует | G7: ='Бланк заказа с НДС'!N4 -> Цена с 01.07.2026
A8: 1 | B8: 2 | C8: 2 | D8: 4 | E8: 5 | F8: 6 | G8: 3 | H8: 4 | I8: 5 | J8: 6 | K8: 7 | L8: 8 | M8: 9
